BEGIN:VCALENDAR
VERSION:2.0
PRODID:-//ChamberMaster//Event Calendar 2.0//EN
METHOD:PUBLISH
X-PUBLISHED-TTL:P3D
REFRESH-INTERVAL:P3D
CALSCALE:GREGORIAN
BEGIN:VEVENT
DTSTART:20181113T170000Z
DTEND:20181113T184500Z
X-MICROSOFT-CDO-ALLDAYEVENT:FALSE
SUMMARY:Your DIA: The Essentials
DESCRIPTION:Join us to explore select DIA artworks to gain an appreciation of the diversity\, quality and world-class status of the museum's permanent collection.
X-ALT-DESC;FMTTYPE=text/html:Join us to explore select DIA artworks to gain an appreciation of the diversity\, quality and world-class status of the museum&#39\;s permanent collection.
LOCATION:Demonstration Kitchen Henry Ford West Bloomfield Hospital 6777 W. Maple West Bloomfield\, MI 48322
UID:e.3222.199
SEQUENCE:3
DTSTAMP:20260421T161538Z
URL:https://www.apacc.net/events/details/your-dia-the-essentials-199
END:VEVENT

END:VCALENDAR
