BEGIN:VCALENDAR
VERSION:2.0
PRODID:-//ChamberMaster//Event Calendar 2.0//EN
METHOD:PUBLISH
X-PUBLISHED-TTL:P3D
REFRESH-INTERVAL:P3D
CALSCALE:GREGORIAN
BEGIN:VEVENT
DTSTART:20180905T150000Z
DTEND:20180905T160000Z
X-MICROSOFT-CDO-ALLDAYEVENT:FALSE
SUMMARY:Writing A Business Plan - Webinar
DESCRIPTION:Topic: Business Plan\n\nDo you want to launch or grow your business in 2018?\n\n\n\nJoin us as we guide you through researching and writing each piece of a successful business plan. This webinar is designed for entrepreneurs who are looking to write a business plan for the first time\, or already have a plan they would like to improve.\n\n\n\nWe'll walk you through about 40 minutes of the most important tools and information to use when writing a successful business plan\, pausing for audience questions and feedback along the way.\n\n\n\nWe have reserved 20 minutes for a live question and answer session\, in which one of our certified small business consultants will answer questions from the audience on a first come\, first served basis.\n\n\n\nAfter the webinar\, you will receive a copy of the webinar recording\, as well as sample business plan templates\, and other resources.
X-ALT-DESC;FMTTYPE=text/html:Topic: Business Plan<br />\nDo you want to launch or grow your business in 2018?<br />\n<br />\nJoin us as we guide you through researching and writing each piece of a successful business plan. This webinar is designed for entrepreneurs who are looking to write a business plan for the first time\, or already have a plan they would like to improve.<br />\n<br />\nWe&rsquo\;ll walk you through about 40 minutes of the most important tools and information to use when writing a successful business plan\, pausing for audience questions and feedback along the way.<br />\n<br />\nWe have reserved 20 minutes for a live question and answer session\, in which one of our certified small business consultants will answer questions from the audience on a first come\, first served basis.<br />\n<br />\nAfter the webinar\, you will receive a copy of the webinar recording\, as well as sample business plan templates\, and other resources.
LOCATION:Online
UID:e.3222.147
SEQUENCE:3
DTSTAMP:20260424T010829Z
URL:https://www.apacc.net/events/details/writing-a-business-plan-webinar-147
END:VEVENT

END:VCALENDAR
