BEGIN:VCALENDAR
VERSION:2.0
PRODID:-//ChamberMaster//Event Calendar 2.0//EN
METHOD:PUBLISH
X-PUBLISHED-TTL:P3D
REFRESH-INTERVAL:P3D
CALSCALE:GREGORIAN
BEGIN:VEVENT
DTSTART:20200929T150000Z
DTEND:20200929T160000Z
X-MICROSOFT-CDO-ALLDAYEVENT:FALSE
SUMMARY:Working with the World Bank water and sanitation procurements
DESCRIPTION:Overview\n\nJoin us to learn about opportunities in water and sanitation sectors and how to best position your company to win World Bank supported contracts.\n\n\n\nObjectives\n\nLearn about working with the World Bank\, specifically with regards to projects in the water and sanitation sector. Receive actionable items and information on priority upcoming projects.\n\n\n\nEvent Information\n\n	The World Bank Group (WBG) is the largest multilateral source of financing for water supply and sanitation (WSS) in developing countries.\n	The World Bank Group current WSS lending portfolio is approximately US$13.5 billion which represents more than half of all its water-related operations.\n	In FY16-18\, the World Bank contributed to providing more than 47 million people with access to an improved water source.\n	Please join us to learn about water and sanitation opportunities at the World Bank\, and how to best position your company to win WB-financed contracts.
X-ALT-DESC;FMTTYPE=text/html:<strong>Overview</strong><br />\nJoin us to learn about opportunities in water and sanitation sectors and how to best position your company to win World Bank supported contracts.<br />\n<br />\n<strong>Objectives</strong><br />\nLearn about working with the World Bank\, specifically with regards to projects in the water and sanitation sector. Receive actionable items and information on priority upcoming projects.<br />\n<br />\n<strong>Event Information</strong>\n<ul>\n	<li>The World Bank Group (WBG) is the largest multilateral source of financing for water supply and sanitation (WSS) in developing countries.</li>\n	<li>The World Bank Group current WSS lending portfolio is approximately US$13.5 billion which represents more than half of all its water-related operations.</li>\n	<li>In FY16-18\, the World Bank contributed to providing more than 47 million people with access to an improved water source.</li>\n	<li>Please join us to learn about water and sanitation opportunities at the World Bank\, and how to best position your company to win WB-financed contracts.</li>\n</ul>\n
LOCATION:Webinar by U.S. Commercial Service
UID:e.3222.1976
SEQUENCE:3
DTSTAMP:20260421T145019Z
URL:https://www.apacc.net/events/details/working-with-the-world-bank-water-and-sanitation-procurements-1976
END:VEVENT

END:VCALENDAR
