BEGIN:VCALENDAR
VERSION:2.0
PRODID:-//ChamberMaster//Event Calendar 2.0//EN
METHOD:PUBLISH
X-PUBLISHED-TTL:P3D
REFRESH-INTERVAL:P3D
CALSCALE:GREGORIAN
BEGIN:VEVENT
DTSTART:20201022T150000Z
DTEND:20201022T160000Z
X-MICROSOFT-CDO-ALLDAYEVENT:FALSE
SUMMARY:WHIAAPI’s The Future of Business Virtual Events Series with the Office of Space Commerce\, U.S. Department of Commerce
DESCRIPTION:The White House Initiative on Asian Americans and Pacific Islanders (WHIAAPI) invites you to participate in The Future of Business Virtual Series with the Office of Space Commerce (OSC)\, which is the principal unit for space commerce policy activities within the U.S. Department of Commerce. Its mission is to foster the conditions for the economic growth and technological advancement of the U.S. commercial space industry. We are honored to be joined by Director of OSC\, Mr. Kevin O'Connell. Topics that will be discussed include the future of space business\, building a diverse workforce\, and OSC's plans for new initiatives and programs to reach MBEs. Also joining us will be Dr. Diane Howard\, Chief Counsel for OSC\; Jason Y. Kim\, Senior Policy Analyst of OSC\; and Grace Lee\, Commissioner of the President's Advisory Commission on Asian Americans and Pacific Islanders.\n\n	Opening Remarks & Presentation by the Director of the Office of Space Commerce\, Mr. Kevin O'Connell\n	Guest Speakers: Dr. Diane Howard\, Chief Counsel for OSC\; Jason Y. Kim\, Senior Policy Analyst of OSC\; and Grace Lee\, Commissioner of the President's Advisory Commission on Asian Americans and Pacific Islanders
X-ALT-DESC;FMTTYPE=text/html:The White House Initiative on Asian Americans and Pacific Islanders (WHIAAPI) invites you to participate in The Future of Business Virtual Series with the Office of Space Commerce (OSC)\, which is the principal unit for space commerce policy activities within the U.S. Department of Commerce. Its mission is to foster the conditions for the economic growth and technological advancement of the U.S. commercial space industry. We are honored to be joined by Director of OSC\, Mr. Kevin O&rsquo\;Connell. Topics that will be discussed include the future of space business\, building a diverse workforce\, and OSC&rsquo\;s plans for new initiatives and programs to reach MBEs. Also joining us will be Dr. Diane Howard\, Chief Counsel for OSC\; Jason Y. Kim\, Senior Policy Analyst of OSC\; and Grace Lee\, Commissioner of the President&rsquo\;s Advisory Commission on Asian Americans and Pacific Islanders.\n<ul>\n	<li>Opening Remarks &amp\; Presentation by the Director of the Office of Space Commerce\, Mr. Kevin O&rsquo\;Connell</li>\n	<li>Guest Speakers: Dr. Diane Howard\, Chief Counsel for OSC\; Jason Y. Kim\, Senior Policy Analyst of OSC\; and Grace Lee\, Commissioner of the President&rsquo\;s Advisory Commission on Asian Americans and Pacific Islanders</li>\n</ul>\n
LOCATION:Webinar by WHIAAPI
UID:e.3222.1989
SEQUENCE:3
DTSTAMP:20260424T055933Z
URL:https://www.apacc.net/events/details/whiaapi-s-the-future-of-business-virtual-events-series-with-the-office-of-space-commerce-u-s-department-of-commerce-1989
END:VEVENT

END:VCALENDAR
