BEGIN:VCALENDAR
VERSION:2.0
PRODID:-//ChamberMaster//Event Calendar 2.0//EN
METHOD:PUBLISH
X-PUBLISHED-TTL:P3D
REFRESH-INTERVAL:P3D
CALSCALE:GREGORIAN
BEGIN:VEVENT
DTSTART:20200402T140000Z
DTEND:20200402T200000Z
X-MICROSOFT-CDO-ALLDAYEVENT:FALSE
SUMMARY:WHIAAPI Resource Update: Mandarin Chinese & English Webinars on SBA Federal assistance
DESCRIPTION:For AAPI Businesses & Community Leaders that serve Mandarin Chinese speaking populations\, the US Small Business Administration (SBA)'s New York District Office is hosting a number of webinars on Federal assistance. Please extend the invitation to your networks and reach those that need assistance.  There are also webinars in English. Please see schedule of webinars below and RSVP directly.  \n\n\n\nMs. Man-Li K. Lin\, SBA's NY District Office's Economic Development Specialist\, would also like to offer her services to organizations that want to schedule SBA webinars for their own members.  Please email her directly at man-li.lin@sba.gov.\n\n \n\n  4/2 10am-11am\n\nEnglish https://zoom.us/meeting/register/uZAvcOyrqTIukKbn-BozMdTZWSluxejKzw \n\n \n\n \n\n  4/2 11am-12pm\n\nEnglish https://zoom.us/meeting/register/tZUodumuqz0oE9g-5x9QkRjFw4qzxP_4xQ \n\n \n\n \n\n   4/2 1pm-2pm\n\nChinese https://zoom.us/meeting/register/uZYtf-isrTIqTTgPpAQl4RdIygPGmoiBzA \n\n \n\n \n\n  4/2 3pm-4pm\n\nEnglish https://zoom.us/meeting/register/uZAucuCorzgoS6sKWRY_PSBsXzRbqpmTvA
X-ALT-DESC;FMTTYPE=text/html:<div>For AAPI Businesses &amp\; Community Leaders that serve Mandarin Chinese speaking populations\, the US Small Business Administration (SBA)&rsquo\;s New York District Office is hosting a number of webinars on Federal assistance. Please extend the invitation to your networks and reach those that need assistance.&nbsp\; There are also webinars in English. Please see schedule of webinars below and RSVP directly.&nbsp\;&nbsp\;<br />\n<br />\nMs. Man-Li K. Lin\, SBA&rsquo\;s NY District Office&rsquo\;s Economic Development Specialist\, would also like to offer her services to organizations that want to schedule SBA webinars for their own members.&nbsp\; Please email her directly at <a href="mailto:man-li.lin@sba.gov" target="_blank">man-li.lin@sba.gov</a>.</div>\n\n<div>&nbsp\;</div>\n\n<div>&nbsp\;<span style="white-space:pre"> </span>4/2 10am-11am</div>\n\n<div>English<span style="white-space:pre"> </span><a href="https://zoom.us/meeting/register/uZAvcOyrqTIukKbn-BozMdTZWSluxejKzw" target="_blank">https://zoom.us/meeting/register/uZAvcOyrqTIukKbn-BozMdTZWSluxejKzw&nbsp\;</a></div>\n\n<div>&nbsp\;</div>\n\n<div>&nbsp\;</div>\n\n<div>&nbsp\;<span style="white-space:pre"> </span>4/2 11am-12pm</div>\n\n<div>English<span style="white-space:pre"> </span><a href="https://zoom.us/meeting/register/tZUodumuqz0oE9g-5x9QkRjFw4qzxP_4xQ" target="_blank">https://zoom.us/meeting/register/tZUodumuqz0oE9g-5x9QkRjFw4qzxP_4xQ</a>&nbsp\;</div>\n\n<div>&nbsp\;</div>\n\n<div>&nbsp\;</div>\n\n<div>&#20013\;&#25991\;<span style="white-space:pre"> </span>4/2 1pm-2pm</div>\n\n<div>Chinese<span style="white-space:pre"> </span><a href="https://zoom.us/meeting/register/uZYtf-isrTIqTTgPpAQl4RdIygPGmoiBzA" target="_blank">https://zoom.us/meeting/register/uZYtf-isrTIqTTgPpAQl4RdIygPGmoiBzA&nbsp\;</a></div>\n\n<div>&nbsp\;</div>\n\n<div>&nbsp\;</div>\n\n<div>&nbsp\;<span style="white-space:pre"> </span>4/2 3pm-4pm</div>\n\n<div>English<span style="white-space:pre"> </span><a href="https://zoom.us/meeting/register/uZAucuCorzgoS6sKWRY_PSBsXzRbqpmTvA" target="_blank">https://zoom.us/meeting/register/uZAucuCorzgoS6sKWRY_PSBsXzRbqpmTvA</a>&nbsp\;</div>\n
LOCATION:Webinars
UID:e.3222.1643
SEQUENCE:3
DTSTAMP:20260422T145811Z
URL:https://www.apacc.net/events/details/whiaapi-resource-update-mandarin-chinese-english-webinars-on-sba-federal-assistance-1643
END:VEVENT

END:VCALENDAR
