BEGIN:VCALENDAR
VERSION:2.0
PRODID:-//ChamberMaster//Event Calendar 2.0//EN
METHOD:PUBLISH
X-PUBLISHED-TTL:P3D
REFRESH-INTERVAL:P3D
CALSCALE:GREGORIAN
BEGIN:VEVENT
DTSTART:20200429T170000Z
DTEND:20200429T180000Z
X-MICROSOFT-CDO-ALLDAYEVENT:FALSE
SUMMARY:WHIAAPI Resource Update: Mandarin Chinese & English Webinars on SBA Federal assistance
DESCRIPTION:For AAPI Businesses & Community Leaders that serve Mandarin Chinese speaking populations\, the US Small Business Administration (SBA)'s New York District Office is hosting a number of webinars on Federal assistance every Wednesday at 1pm (ET) from April 1 - May 27\, 2020. Please extend the invitation to your networks and reach those that need assistance.  There are also webinars in English. Please see schedule of webinars below and RSVP directly.  \n\n\n\nMs. Man-Li K. Lin\, SBA's NY District Office's Economic Development Specialist\, would also like to offer her services to organizations that want to schedule SBA webinars for their own members.  Please email her directly at man-li.lin@sba.gov.  \n\n \n\n\n   : 1pm-2pm\n\nChinese https://zoom.us/meeting/register/upQsceGqpz0j0h-eGY18Gnhbv0y_N5nMTA
X-ALT-DESC;FMTTYPE=text/html:<div>For AAPI Businesses &amp\; Community Leaders that serve Mandarin Chinese speaking populations\, the US Small Business Administration (SBA)&rsquo\;s New York District Office is hosting a number of webinars on Federal assistance every Wednesday at 1pm (ET) from April 1 - May 27\, 2020. Please extend the invitation to your networks and reach those that need assistance.&nbsp\; There are also webinars in English. Please see schedule of webinars below and RSVP directly.&nbsp\;&nbsp\;<br />\n<br />\nMs. Man-Li K. Lin\, SBA&rsquo\;s NY District Office&rsquo\;s Economic Development Specialist\, would also like to offer her services to organizations that want to schedule SBA webinars for their own members.&nbsp\; Please email her directly at&nbsp\;<a href="mailto:Dear AAPI Businesses &amp\; Community Leaders\,   For those that serve Mandarin Chinese speaking populations\, the US Small Business Administration (SBA)?s New York District Office is hosting a number of webinars on Federal assistance.  The next one is April 1st and will continue every Wednesday at 1pm (ET).  Please extend the invitation to your networks and reach those that need assistance.  There are also webinars in English. Please see schedule of webinars below and RSVP directly.    Ms. Man-Li K. Lin\, SBA?s NY District Office?s Economic Development Specialist\, would also like to offer her services to organizations that want to schedule SBA webinars for their own members.  Please email her directly at  man-li.lin@sba.gov ? she would be happy to take the opportunity to be helpful to businesses that need assistance accessing SBA related federal resources in Mandarin Chinese.    As other resources become available or are shared with us that are language specific\, we will be sure to pass it along.    ###  	  	4/2 10am-11am English	https://zoom.us/meeting/register/uZAvcOyrqTIukKbn-BozMdTZWSluxejKzw   	  	4/2 11am-12pm English	https://zoom.us/meeting/register/tZUodumuqz0oE9g-5x9QkRjFw4qzxP_4xQ   	 &#20013\;&#25991\;	4/2 1pm-2pm Chinese	https://zoom.us/meeting/register/uZYtf-isrTIqTTgPpAQl4RdIygPGmoiBzA   	  	4/2 3pm-4pm English	https://zoom.us/meeting/register/uZAucuCorzgoS6sKWRY_PSBsXzRbqpmTvA " target="_blank">man-li.lin@sba.gov</a>.&nbsp\;&nbsp\;</div>\n\n<div>&nbsp\;</div>\n\n<div>\n<div>&#20013\;&#25991\;<span style="white-space:pre"> :</span>&nbsp\;1pm-2pm</div>\n\n<div>Chinese<span style="white-space:pre"> </span><a href="https://zoom.us/meeting/register/upQsceGqpz0j0h-eGY18Gnhbv0y_N5nMTA" target="_blank">https://zoom.us/meeting/register/upQsceGqpz0j0h-eGY18Gnhbv0y_N5nMTA&nbsp\;</a></div>\n</div>\n\n<div>&nbsp\;</div>\n\n<div>&nbsp\;<span style="white-space:pre"> </span></div>\n
LOCATION:Webinars
UID:e.3222.1648
SEQUENCE:3
DTSTAMP:20260422T145803Z
URL:https://www.apacc.net/events/details/whiaapi-resource-update-mandarin-chinese-english-webinars-on-sba-federal-assistance-04-29-2020-1648
END:VEVENT

END:VCALENDAR
