BEGIN:VCALENDAR
VERSION:2.0
PRODID:-//ChamberMaster//Event Calendar 2.0//EN
METHOD:PUBLISH
X-PUBLISHED-TTL:P3D
REFRESH-INTERVAL:P3D
CALSCALE:GREGORIAN
BEGIN:VEVENT
DTSTART:20200416T133000Z
DTEND:20200416T153000Z
X-MICROSOFT-CDO-ALLDAYEVENT:FALSE
SUMMARY:WHIAAPI Resource: SBA Webinar on Opportunity Zone 101
DESCRIPTION:The US Small Business Administration (SBA)'s New York District Office is hosting a number of webinars on Federal assistance. Please extend the invitation to your networks and reach those that need assistance.  \n\nPlease see schedule of webinar below and RSVP directly.\n\n \nOpportunity Zone 101\n\n4/16 9:30am-11:30am\n\nhttps://zoom.us/meeting/register/tJAqdeuorDspTbZ0ioqmwAwGf_TJYQCKPg
X-ALT-DESC;FMTTYPE=text/html:<div>The US Small Business Administration (SBA)&rsquo\;s New York District Office is hosting a number of webinars on Federal assistance. Please extend the invitation to your networks and reach those that need assistance.&nbsp\;&nbsp\;<br />\nPlease see schedule of webinar below and RSVP directly.<br />\n&nbsp\;\n<div>Opportunity Zone 101<br />\n4/16 9:30am-11:30am<br />\n<a href="https://zoom.us/meeting/register/tJAqdeuorDspTbZ0ioqmwAwGf_TJYQCKPg" target="_blank">https://zoom.us/meeting/register/tJAqdeuorDspTbZ0ioqmwAwGf_TJYQCKPg</a>&nbsp\;</div>\n</div>\n\n<div>&nbsp\;<span style="white-space:pre"> </span></div>\n
LOCATION:Webinars
UID:e.3222.1657
SEQUENCE:3
DTSTAMP:20260424T082316Z
URL:https://www.apacc.net/events/details/whiaapi-resource-sba-webinar-on-opportunity-zone-101-1657
END:VEVENT

END:VCALENDAR
