BEGIN:VCALENDAR
VERSION:2.0
PRODID:-//ChamberMaster//Event Calendar 2.0//EN
METHOD:PUBLISH
X-PUBLISHED-TTL:P3D
REFRESH-INTERVAL:P3D
CALSCALE:GREGORIAN
BEGIN:VEVENT
DTSTART:20250617T180000Z
DTEND:20250617T190000Z
X-MICROSOFT-CDO-ALLDAYEVENT:FALSE
SUMMARY:Webinar: Prepare Your Clients for Construction Season with SBA Contract Bonding Basics
DESCRIPTION:SBA's Surety Bond Guarantee Program helps small businesses get bonded for projects up to $14 million! Join us to learn how SBA can help your clients obtain bonding if they have: \n\n\n	Limited or no experience\,\n	Difficulty qualifying for bonding\, or\n	The desire to increase current bond limits.\n\n\nOur discussion will include an overview of contract bonds - what they are and how surety companies qualify businesses - and how SBA's Surety Bond Guarantee Program can open doors to bonding for your small business clients by reducing barriers to bonding and increasing contracting opportunities.\n\n \n\nJoin our SBA expert\, Tamara Murray\, as she gives a fast-paced\, informative presentation on this well-established program.
X-ALT-DESC;FMTTYPE=text/html:<div>SBA&rsquo\;s Surety Bond Guarantee Program helps small businesses get bonded for projects up to $14 million! Join us to learn how SBA can help your clients obtain bonding if they have:&nbsp\;</div>\n\n<ul>\n	<li>Limited or no experience\,</li>\n	<li>Difficulty qualifying for bonding\, or</li>\n	<li>The desire to increase current bond limits.</li>\n</ul>\n\n<div>Our discussion will include an overview of contract bonds - what they are and how surety companies qualify businesses - and how SBA&rsquo\;s Surety Bond Guarantee Program can open doors to bonding for your small business clients by reducing barriers to bonding and increasing contracting opportunities.</div>\n\n<div>&nbsp\;</div>\n\n<div>Join our SBA expert\, Tamara Murray\, as she gives a fast-paced\, informative presentation on this well-established program.&nbsp\;&nbsp\;</div>\n
LOCATION:Webinar
UID:e.3222.2983
SEQUENCE:3
DTSTAMP:20260425T173648Z
URL:https://www.apacc.net/events/details/webinar-prepare-your-clients-for-construction-season-with-sba-contract-bonding-basics-2983
END:VEVENT

END:VCALENDAR
