BEGIN:VCALENDAR
VERSION:2.0
PRODID:-//ChamberMaster//Event Calendar 2.0//EN
METHOD:PUBLISH
X-PUBLISHED-TTL:P3D
REFRESH-INTERVAL:P3D
CALSCALE:GREGORIAN
BEGIN:VEVENT
DTSTART:20200624T130000Z
DTEND:20200624T230000Z
X-MICROSOFT-CDO-ALLDAYEVENT:FALSE
SUMMARY:Walsh Waiver Wednesday
DESCRIPTION:As you continue to prepare for your next career steps\, Walsh is here to help. Meet with an advisor to find the best degree to reach your goals\, set a course plan\, and we will waive your $35 application fee! Register to attend at www.walshcollege.edu/waiver-wednesday
X-ALT-DESC;FMTTYPE=text/html:As you continue to prepare for your next career steps\, Walsh is here to help. Meet with an advisor to find the best degree to reach your goals\, set a course plan\, and we will waive your $35 application fee! Register to attend at <a href="https://www.walshcollege.edu/waiver-wednesday" target="_blank">www.walshcollege.edu/waiver-wednesday</a>
LOCATION:Virtual event via Zoom or by phone
UID:e.3222.1778
SEQUENCE:3
DTSTAMP:20260421T100406Z
URL:https://www.apacc.net/events/details/walsh-waiver-wednesday-06-24-2020-1778
END:VEVENT

END:VCALENDAR
