BEGIN:VCALENDAR
VERSION:2.0
PRODID:-//ChamberMaster//Event Calendar 2.0//EN
METHOD:PUBLISH
X-PUBLISHED-TTL:P3D
REFRESH-INTERVAL:P3D
CALSCALE:GREGORIAN
BEGIN:VEVENT
DTSTART:20200609T130000Z
DTEND:20200609T230000Z
X-MICROSOFT-CDO-ALLDAYEVENT:FALSE
SUMMARY:Walsh Virtual Graduate Student Open House
DESCRIPTION:Join this virtual session to meet with a Walsh admissions advisor and learn more about getting started on your master's degree\, taking courses or programs entirely online\, and year-round registration to earn your degree quickly. Summer classes begin on June 22 and will be delivered 100% remotely. Register to attend the open house at www.walshcollege.edu/new-student-events.
X-ALT-DESC;FMTTYPE=text/html:Join this virtual session to meet with a Walsh admissions advisor and learn more about getting started on your master&#39\;s degree\, taking courses or programs entirely online\, and year-round registration to earn your degree quickly. Summer classes begin on June 22 and will be delivered 100% remotely. Register to attend the open house at <a href="http://www.walshcollege.edu/new-student-events" target="_blank">www.walshcollege.edu/new-student-events</a>.
LOCATION:Virtual event via Zoom
UID:e.3222.1765
SEQUENCE:3
DTSTAMP:20260421T100407Z
URL:https://www.apacc.net/events/details/walsh-virtual-graduate-student-open-house-06-09-2020-1765
END:VEVENT

END:VCALENDAR
