BEGIN:VCALENDAR
VERSION:2.0
PRODID:-//ChamberMaster//Event Calendar 2.0//EN
METHOD:PUBLISH
X-PUBLISHED-TTL:P3D
REFRESH-INTERVAL:P3D
CALSCALE:GREGORIAN
BEGIN:VEVENT
DTSTART:20200611T190000Z
DTEND:20200611T193000Z
X-MICROSOFT-CDO-ALLDAYEVENT:FALSE
SUMMARY:Walsh FastTrack Program
DESCRIPTION:Attend this information session to learn more about Walsh FastTrack\, an accelerated program that lets you earn your bachelor's and master's degrees in as little as five years and graduate with the skills you need to jump start your career. Register to attend the session at www.walshcollege.edu/new-student-events'
X-ALT-DESC;FMTTYPE=text/html:Attend this information session to learn more about Walsh FastTrack\, an accelerated program that lets you earn your bachelor&rsquo\;s and master&rsquo\;s degrees in as little as five years and graduate with the skills you need to jump start your career. Register to attend the session at <a href="http://www.walshcollege.edu/new-student-events" target="_blank">www.walshcollege.edu/new-student-events</a>&#39\;
LOCATION:Virtual event via Zoom
UID:e.3222.1772
SEQUENCE:3
DTSTAMP:20260421T100425Z
URL:https://www.apacc.net/events/details/walsh-fasttrack-program-1772
END:VEVENT

END:VCALENDAR
