BEGIN:VCALENDAR
VERSION:2.0
PRODID:-//ChamberMaster//Event Calendar 2.0//EN
METHOD:PUBLISH
X-PUBLISHED-TTL:P3D
REFRESH-INTERVAL:P3D
CALSCALE:GREGORIAN
BEGIN:VEVENT
DTSTART:20201008T200000Z
DTEND:20201008T203000Z
X-MICROSOFT-CDO-ALLDAYEVENT:FALSE
SUMMARY:Virtual Transfer Student Presentation
DESCRIPTION:Did you know you can transfer up to 90 credits to Walsh to complete your bachelor's degree? Attend this virtual presentation to learn more about: - Walsh degree programs - How the transfer process works - Walsh Now\, our concurrent enrollment program to attend Walsh and a community college at the same time - Financial aid and scholarships options - Free student resources to help you succeed Apply for admission early and have your application fee waived! Register to attend and you will receive a confirmation email with a Zoom link.
X-ALT-DESC;FMTTYPE=text/html:Did you know you can transfer up to 90 credits to Walsh to complete your bachelor&rsquo\;s degree? Attend this virtual presentation to learn more about: - Walsh degree programs - How the transfer process works - Walsh Now\, our concurrent enrollment program to attend Walsh and a community college at the same time - Financial aid and scholarships options - Free student resources to help you succeed Apply for admission early and have your application fee waived! Register to attend and you will receive a confirmation email with a Zoom link.
LOCATION:Virtual Zoom event
UID:e.3222.1881
SEQUENCE:3
DTSTAMP:20260426T002352Z
URL:https://www.apacc.net/events/details/virtual-transfer-student-presentation-10-08-2020-1881
END:VEVENT

END:VCALENDAR
