BEGIN:VCALENDAR
VERSION:2.0
PRODID:-//ChamberMaster//Event Calendar 2.0//EN
METHOD:PUBLISH
X-PUBLISHED-TTL:P3D
REFRESH-INTERVAL:P3D
CALSCALE:GREGORIAN
BEGIN:VEVENT
DTSTART:20210622T154500Z
DTEND:20210622T161500Z
X-MICROSOFT-CDO-ALLDAYEVENT:FALSE
SUMMARY:Virtual Town Hall Series w/ Special Welcome from Governor Whitmer: Healthcare
DESCRIPTION:Governor Whitmer's office is holding a special virtual townhall series on different topics like Education\, Jobs & Economy\, Healthcare\, Parks\, Environment & Clean Water\, and Infrastructure. Starting next week\, they'll be hosting conversations specifically for constituents to talk about what these historic investments could mean for you and your family\, business\, school\, or community.\n\n\n\nJoin Governor Whitmer's office and a healthcare expert to talk about how this year's investments could be game-changing for healthcare\, especially mental health\, reducing health disparities\, and early childhood care. \n\n\n\nJoin using the link below OR dial in from your phone:\n\nCall: 1-248-509-0316\n\nPin: 452 219 144#Pin: 451 372 091#\n\n\n\nClick here to join Webinar
X-ALT-DESC;FMTTYPE=text/html:<br />\n<br />\nGovernor Whitmer&#39\;s office is holding a special virtual townhall series on different topics like Education\, Jobs &amp\; Economy\, Healthcare\, Parks\, Environment &amp\; Clean Water\, and Infrastructure. Starting next week\, they&rsquo\;ll be hosting conversations specifically for constituents to talk about what these historic investments could mean for you and your family\, business\, school\, or community.<br />\n<br />\nJoin Governor Whitmer&#39\;s office and a healthcare expert to talk about how this year&rsquo\;s investments could be game-changing for healthcare\, especially mental health\, reducing health disparities\, and early childhood care.&nbsp\;<br />\n<br />\nJoin using the link below OR dial in from your phone:<br />\nCall: 1-248-509-0316<br />\nPin: 452 219 144#Pin: 451 372 091#<br />\n<br />\n<a href="https://teams.microsoft.com/dl/launcher/launcher.html?url=%2F_%23%2Fl%2Fmeetup-join%2F19%3Ameeting_ZmI0MzQ2Y2MtYjM5OC00YTU5LWEwOWMtMjJiZDdjZWU5MGU1%40thread.v2%2F0%3Fcontext%3D%257b%2522Tid%2522%253a%2522d5fb7087-3777-42ad-966a-892ef47225d1%2522%252c%2522Oid%2522%253a%2522083c3061-06d6-4f30-94a2-b2aee028057a%2522%252c%2522IsBroadcastMeeting%2522%253atrue%257d%26anon%3Dtrue&amp\;type=meetup-join&amp\;deeplinkId=d540ca4f-8bbc-4622-b040-922538ca4e98&amp\;directDl=true&amp\;msLaunch=true&amp\;enableMobilePage=true&amp\;suppressPrompt=true" target="_blank">Click here&nbsp\;to join Webinar</a>
LOCATION:Virtual
UID:e.3222.2151
SEQUENCE:3
DTSTAMP:20260423T190010Z
URL:https://www.apacc.net/events/details/virtual-town-hall-series-w-special-welcome-from-governor-whitmer-healthcare-2151
END:VEVENT

END:VCALENDAR
