BEGIN:VCALENDAR
VERSION:2.0
PRODID:-//ChamberMaster//Event Calendar 2.0//EN
METHOD:PUBLISH
X-PUBLISHED-TTL:P3D
REFRESH-INTERVAL:P3D
CALSCALE:GREGORIAN
BEGIN:VEVENT
DTSTART:20200819T160000Z
DTEND:20200819T170000Z
X-MICROSOFT-CDO-ALLDAYEVENT:FALSE
SUMMARY:Virtual Pitch Event: COVID-19 Technology Supporting Seniors
DESCRIPTION:3 innovative companies will share their COVID-19 Senior Citizen Response Efforts currently being deployed\, the success rate of their services\, and share the projected exposure safety for employees\, staff\, and consumers they foreshadow in the coming months. EyeMail\, Pure Air Control Services\, Inc.\, and  TrekWorld are up next.  We are excited to continue to share information within the Health Care and Large Consumer space and hope that this information is helpful to some of your COVID-19 Technology Resource Efforts for reopening stores\, social responsibility efforts or simply enhancing the capabilities of your companies' essential teams. \n\n\n\nView PDF
X-ALT-DESC;FMTTYPE=text/html:3 innovative companies will share their COVID-19 Senior Citizen Response Efforts currently being deployed\, the success rate of their services\, and share the projected exposure safety for employees\, staff\, and consumers they foreshadow in the coming months. EyeMail\, Pure Air Control Services\, Inc.\, and&nbsp\; TrekWorld are up next.&nbsp\; We are excited to continue to share information within the Health Care and Large Consumer space and hope that this information is helpful to some of your COVID-19 Technology Resource Efforts for reopening stores\, social responsibility efforts or simply enhancing the capabilities of your companies&#39\; essential teams.&nbsp\;<br />\n<br />\n<a href="https://chambermaster.blob.core.windows.net/userfiles/UserFiles/chambers/3222/File/BCBSMichigan_MarketingFlyer.pdf" target="_blank">View PDF</a>
LOCATION:Virtual
UID:e.3222.1925
SEQUENCE:3
DTSTAMP:20260424T014627Z
URL:https://www.apacc.net/events/details/virtual-pitch-event-covid-19-technology-supporting-seniors-1925
END:VEVENT

END:VCALENDAR
