BEGIN:VCALENDAR
VERSION:2.0
PRODID:-//ChamberMaster//Event Calendar 2.0//EN
METHOD:PUBLISH
X-PUBLISHED-TTL:P3D
REFRESH-INTERVAL:P3D
CALSCALE:GREGORIAN
BEGIN:VEVENT
DTSTART:20200827T130000Z
DTEND:20200827T160000Z
X-MICROSOFT-CDO-ALLDAYEVENT:FALSE
SUMMARY:Virtual Meet the Buyer: Doing Business with the Government and Private Sector
DESCRIPTION:Are you interested in learning how to sell your products or service to the government and private sectors? If so\, join us for this free\, MUST-attend virtual event.\n\n\n\nPure Michigan Business Connect (PMBC)\, in partnership with the Flint and Genesee Chamber of Commerce Procurement Assistance Center (PTAC) and Saginaw Future PTAC\, are hosting this event bringing purchasing demand to the supply base here in Michigan.\n\n\n\nAttendees will learn how to:\n\n	Work with the PTAC organization to learn best practices when competing for government contracts.\n	Learn how the Small Business Administration supports America's small businesses.\n	Access procurement opportunities with buyers including: U.S. Army Tank-automotive and Armaments Command (TACOM)\, Michigan Department of Technology\, Management and Budget\, Great Lakes Water Authority and more.\n	Get certified with the Great Lakes Women's Business Council\, the Michigan Minority Supplier Development Council\, and the National Veteran Business Development Council and the Detroit Regional LGBT Chamber of Commerce.\n\nThe event will include a webinar followed by virtual roundtable buyer-supplier meetings where you will be assigned to one or more meetings with buyers to hear about their purchasing and bid processes. \n\n\n\nTo learn more or to register\, click on the button below or contact Salifou Mahaman at mahamans@michigan.org.
X-ALT-DESC;FMTTYPE=text/html:Are you interested in learning how to sell your products or service to the government and private sectors? If so\, join us for this free\, <strong>MUST-attend virtual event.</strong><br />\n<br />\n<a href="https://www.michiganbusiness.org/services/pure-michigan-business-connect/?utm_source=newsletter&amp\;utm_medium=email&amp\;utm_campaign=medc-pmbc-flint-meet-the-buyer-08-05-20&amp\;mkt_tok=eyJpIjoiWVdNMU1qWmhORFF4TkRBNCIsInQiOiJ5RFZXWUtyTFlUSDBzcFVtcGpTaEUzWGNNS01zTnAwYTFKNlU4RXhEUjRYcUViaXdzVVwvVms5SlwvZVJ1ZXJWXC9aTmwwN0ZqOXlScXZic0IrYzdQallHajJSSStVWnZnNFVja0FLc1JMQWtmXC85VnhBOXNnRlptSXRCaXh6SjhwV3gifQ%3D%3D" target="_blank">Pure Michigan Business Connect (PMBC)</a>\, in partnership with the <a href="https://www.flintandgenesee.org/economic-development/government-contracting/?mkt_tok=eyJpIjoiWVdNMU1qWmhORFF4TkRBNCIsInQiOiJ5RFZXWUtyTFlUSDBzcFVtcGpTaEUzWGNNS01zTnAwYTFKNlU4RXhEUjRYcUViaXdzVVwvVms5SlwvZVJ1ZXJWXC9aTmwwN0ZqOXlScXZic0IrYzdQallHajJSSStVWnZnNFVja0FLc1JMQWtmXC85VnhBOXNnRlptSXRCaXh6SjhwV3gifQ%3D%3D" target="_blank">Flint and Genesee Chamber of Commerce Procurement Assistance Center (PTAC) </a>and <a href="https://www.ptacsofmichigan.org/offices/saginaw-future-inc-ptac/?mkt_tok=eyJpIjoiWVdNMU1qWmhORFF4TkRBNCIsInQiOiJ5RFZXWUtyTFlUSDBzcFVtcGpTaEUzWGNNS01zTnAwYTFKNlU4RXhEUjRYcUViaXdzVVwvVms5SlwvZVJ1ZXJWXC9aTmwwN0ZqOXlScXZic0IrYzdQallHajJSSStVWnZnNFVja0FLc1JMQWtmXC85VnhBOXNnRlptSXRCaXh6SjhwV3gifQ%3D%3D" target="_blank">Saginaw Future PTAC</a>\, are hosting this event bringing purchasing demand to the supply base here in Michigan.<br />\n<br />\nAttendees will learn how to:\n<ul>\n	<li>Work with the PTAC organization to learn best practices when competing for government contracts.</li>\n	<li>Learn how the Small Business Administration supports America&rsquo\;s small businesses.</li>\n	<li>Access procurement opportunities with buyers including: U.S. Army Tank-automotive and Armaments Command (TACOM)\, Michigan Department of Technology\, Management and Budget\, Great Lakes Water Authority and more.</li>\n	<li>Get certified with the Great Lakes Women&rsquo\;s Business Council\, the Michigan Minority Supplier Development Council\, and the National Veteran Business Development Council and the Detroit Regional LGBT Chamber of Commerce.</li>\n</ul>\nThe event will include a webinar followed by virtual roundtable buyer-supplier meetings where you will be assigned to one or more meetings with buyers to hear about their purchasing and bid processes.&nbsp\;<br />\n<br />\nTo learn more or to register\, click on the button below or contact Salifou Mahaman at <a href="mailto:mahamans@michigan.org" target="_blank">mahamans@michigan.org</a>.<br />\n
LOCATION:Virtual event by PMBC
UID:e.3222.1922
SEQUENCE:3
DTSTAMP:20260424T092149Z
URL:https://www.apacc.net/events/details/virtual-meet-the-buyer-doing-business-with-the-government-and-private-sector-1922
END:VEVENT

END:VCALENDAR
