BEGIN:VCALENDAR
VERSION:2.0
PRODID:-//ChamberMaster//Event Calendar 2.0//EN
METHOD:PUBLISH
X-PUBLISHED-TTL:P3D
REFRESH-INTERVAL:P3D
CALSCALE:GREGORIAN
BEGIN:VEVENT
DTSTART:20201015T220000Z
DTEND:20201015T230000Z
X-MICROSOFT-CDO-ALLDAYEVENT:FALSE
SUMMARY:Virtual Information Sessions - Walsh MSIT and MSITL
DESCRIPTION:Ready to move forward in your technology career? A Master of Science in Information Technology (MSIT) or Master of Science in Information Technology Leadership (MSITL) will equip you with the skills necessary to take the next step. Join the virtual information session with Walsh IT/Decision Sciences faculty members to learn more about our MSIT and MSITL\, what makes Walsh IT programs unique\, and how these programs work. A live Q&A period will follow.
X-ALT-DESC;FMTTYPE=text/html:Ready to move forward in your technology career? A Master of Science in Information Technology (MSIT) or Master of Science in Information Technology Leadership (MSITL) will equip you with the skills necessary to take the next step. Join the virtual information session with Walsh IT/Decision Sciences faculty members to learn more about our MSIT and MSITL\, what makes Walsh IT programs unique\, and how these programs work. A live Q&amp\;A period will follow.&nbsp\;
LOCATION:Virtual event via Zoom
UID:e.3222.1969
SEQUENCE:3
DTSTAMP:20260421T194253Z
URL:https://www.apacc.net/events/details/virtual-information-sessions-walsh-msit-and-msitl-10-15-2020-1969
END:VEVENT

END:VCALENDAR
