BEGIN:VCALENDAR
VERSION:2.0
PRODID:-//ChamberMaster//Event Calendar 2.0//EN
METHOD:PUBLISH
X-PUBLISHED-TTL:P3D
REFRESH-INTERVAL:P3D
CALSCALE:GREGORIAN
BEGIN:VEVENT
DTSTART:20201201T230000Z
DTEND:20201202T000000Z
X-MICROSOFT-CDO-ALLDAYEVENT:FALSE
SUMMARY:Virtual Information Session: Walsh MSDA Program
DESCRIPTION:Data analysis is needed in nearly every industry and employment projections are high\, growing\, and lucrative. Walsh's new Master of Science in Data Analytics (MSDA) gives you the knowledge and skills to evaluate\, interpret\, and translate information to find and implement solutions for complex business problems. Join the virtual information session to learn more about the MSDA program's unique "level-up" structure and talk with IT/Decision Sciences faculty members. Register to attend this session at https://apply.walshcollege.edu/register/msda-12-1
X-ALT-DESC;FMTTYPE=text/html:Data analysis is needed in nearly every industry and employment projections are high\, growing\, and lucrative. Walsh&rsquo\;s new Master of Science in Data Analytics (MSDA) gives you the knowledge and skills to evaluate\, interpret\, and translate information to find and implement solutions for complex business problems. Join the virtual information session to learn more about the MSDA program&rsquo\;s unique &ldquo\;level-up&rdquo\; structure and talk with IT/Decision Sciences faculty members. Register to attend this session at <a href="https://apply.walshcollege.edu/register/msda-12-1" target="_blank">https://apply.walshcollege.edu/register/msda-12-1</a>
LOCATION:Virtual event via Zoom
UID:e.3222.1964
SEQUENCE:3
DTSTAMP:20260421T231639Z
URL:https://www.apacc.net/events/details/virtual-information-session-walsh-msda-program-12-01-2020-1964
END:VEVENT

END:VCALENDAR
