BEGIN:VCALENDAR
VERSION:2.0
PRODID:-//ChamberMaster//Event Calendar 2.0//EN
METHOD:PUBLISH
X-PUBLISHED-TTL:P3D
REFRESH-INTERVAL:P3D
CALSCALE:GREGORIAN
BEGIN:VEVENT
DTSTART:20200819T160000Z
DTEND:20200819T170000Z
X-MICROSOFT-CDO-ALLDAYEVENT:FALSE
SUMMARY:Virtual Information Session: Walsh MSDA Program
DESCRIPTION:Data analysis is needed in nearly every industry and employment projections are high\, growing\, and lucrative. Walsh's new Master of Science in Data Analytics (MSDA) gives you the knowledge and skills to evaluate\, interpret\, and translate information to find and implement solutions for complex business problems. Join the virtual information session to learn more about the MSDA program's unique "level-up" structure and talk with IT/Decision Sciences faculty Dr. Dave Schippers\, Christopher Heiden\, and Javad Katbai. Register to attend the session and you will receive a confirmation with a Zoom link.
X-ALT-DESC;FMTTYPE=text/html:Data analysis is needed in nearly every industry and employment projections are high\, growing\, and lucrative. Walsh&rsquo\;s new Master of Science in Data Analytics (MSDA) gives you the knowledge and skills to evaluate\, interpret\, and translate information to find and implement solutions for complex business problems. Join the virtual information session to learn more about the MSDA program&rsquo\;s unique &ldquo\;level-up&rdquo\; structure and talk with IT/Decision Sciences faculty Dr. Dave Schippers\, Christopher Heiden\, and Javad Katbai. Register to attend the session and you will receive a confirmation with a Zoom link.
LOCATION:Virtual Zoom Event by Walsh College
UID:e.3222.1911
SEQUENCE:3
DTSTAMP:20260421T172900Z
URL:https://www.apacc.net/events/details/virtual-information-session-walsh-msda-program-08-19-2020-1911
END:VEVENT

END:VCALENDAR
