BEGIN:VCALENDAR
VERSION:2.0
PRODID:-//ChamberMaster//Event Calendar 2.0//EN
METHOD:PUBLISH
X-PUBLISHED-TTL:P3D
REFRESH-INTERVAL:P3D
CALSCALE:GREGORIAN
BEGIN:VEVENT
DTSTART:20200910T163000Z
DTEND:20200910T170000Z
X-MICROSOFT-CDO-ALLDAYEVENT:FALSE
SUMMARY:Virtual Information Session – Walsh FastTrack Program
DESCRIPTION:Walsh FastTrack is an accelerated program that lets you earn your bachelor's and master's degrees in less time and graduate with the skills you need to jump start your career. Attend this information session to learn more about: - Taking graduate-level (master's degree) courses while completing your bachelor's degree - Transitioning seamlessly from your bachelor's to master's programs - Following a FastTrack designed specifically for your career path and interest - Completing your master's degree in as little as six classes. - Saving time and money while increasing your earning potential Register to attend this session at www.walshcollege.edu/new-student-events and you will receive a confirmation email with a Zoom link.
X-ALT-DESC;FMTTYPE=text/html:Walsh FastTrack is an accelerated program that lets you earn your bachelor&rsquo\;s and master&rsquo\;s degrees in less time and graduate with the skills you need to jump start your career. Attend this information session to learn more about: - Taking graduate-level (master&#39\;s degree) courses while completing your bachelor&#39\;s degree - Transitioning seamlessly from your bachelor&rsquo\;s to master&rsquo\;s programs - Following a FastTrack designed specifically for your career path and interest - Completing your master&#39\;s degree in as little as six classes. - Saving time and money while increasing your earning potential Register to attend this session at <a href="http://www.walshcollege.edu/new-student-events" target="_blank">www.walshcollege.edu/new-student-events</a> and you will receive a confirmation email with a Zoom link.
LOCATION:Virtual event via Zoom
UID:e.3222.1898
SEQUENCE:3
DTSTAMP:20260421T161623Z
URL:https://www.apacc.net/events/details/virtual-information-session-walsh-fasttrack-program-09-10-2020-1898
END:VEVENT

END:VCALENDAR
