BEGIN:VCALENDAR
VERSION:2.0
PRODID:-//ChamberMaster//Event Calendar 2.0//EN
METHOD:PUBLISH
X-PUBLISHED-TTL:P3D
REFRESH-INTERVAL:P3D
CALSCALE:GREGORIAN
BEGIN:VEVENT
DTSTART;VALUE=DATE:20210810
DTEND;VALUE=DATE:20210811
TRANSP:TRANSPARENT
X-MICROSOFT-CDO-ALLDAYEVENT:TRUE
SUMMARY:Virtual DTE Northern MI Supplier Meet & Greet
DESCRIPTION:Pure Michigan Business Connect (PMBC) in partnership with DTE and a regional economic development partner group\, is hosting a virtual event providing Northern Michigan suppliers an opportunity to learn about how to do business with DTE.  The event will include a webinar with an overview on becoming a supplier to DTE\, followed by pre-scheduled one-on-one buyer-supplier meetings to discuss procurement opportunities.\n\n\n\nThe webinar is open for anyone interested in attending\, registration for the webinar is required at https://pmbc.connect.space/vir...\n\n\n\nA supplier application for one-on-one meetings is separate from general webinar registration\; not all suppliers will be selected for meetings but are encouraged to apply.  The supplier application is now open at https://pmbc.connect.space/vir....\n\n\n\nSupplier registration closes on 7/23/2021
X-ALT-DESC;FMTTYPE=text/html:<br />\nPure Michigan Business Connect (PMBC) in partnership with DTE and a regional economic development partner group\, is hosting a virtual event providing Northern Michigan suppliers an opportunity to learn about how to do business with DTE.&nbsp\; The event will include a webinar with an overview on becoming a supplier to DTE\, followed by pre-scheduled one-on-one buyer-supplier meetings to discuss procurement opportunities.<br />\n<br />\nThe webinar is open for anyone interested in attending\, registration for the webinar is required at <a href="https://pmbc.connect.space/accounts/sign_in" target="_blank">https://pmbc.connect.space/vir...</a><br />\n<br />\nA supplier application for one-on-one meetings is separate from general webinar registration\; not all suppliers will be selected for meetings but are encouraged to apply.&nbsp\; The supplier application is now open at <a href="https://pmbc.connect.space/virtual-dte-northern-mi-supplier-meet-greet/forms" target="_blank">https://pmbc.connect.space/vir....</a><br />\n<br />\n<u><strong>Supplier registration closes on 7/23/2021</strong></u>
LOCATION:Virtual.
UID:e.3222.2190
SEQUENCE:3
DTSTAMP:20260421T114115Z
URL:https://www.apacc.net/events/details/virtual-dte-northern-mi-supplier-meet-greet-2190
END:VEVENT

END:VCALENDAR
