BEGIN:VCALENDAR
VERSION:2.0
PRODID:-//ChamberMaster//Event Calendar 2.0//EN
METHOD:PUBLISH
X-PUBLISHED-TTL:P3D
REFRESH-INTERVAL:P3D
CALSCALE:GREGORIAN
BEGIN:VEVENT
DTSTART:20200424T140000Z
DTEND:20200424T153000Z
X-MICROSOFT-CDO-ALLDAYEVENT:FALSE
SUMMARY:(Vietnamese Language) SBA's Economic Injury Disaster Loan (EIDL) and Coronavirus Aid\, Relief & Economic Security Act (CARES ACT) for Small Business
DESCRIPTION:You are invited to join the webinar to learn about the SBA's Economic Injury Disaster Loan (EIDL) program and Coronavirus Aid\, Relief & Economic Security Act (CARES ACT) to help Small Business impacted by Coronavirus.\n\n\n\nThis webinar is conducted in Vietnamese.\n\n\n\nSPEAKERS:\n\nMs. Christhien Tran Ley\n\nBusiness Service Manager\n\nVirginia Department of Small Business and Supplier Diversity\n\n\n\nLibo Suen\n\nMarketing and Outreach Team Manager\n\nWashington Metropolitan Area District Office (WMADO)\n\nU.S. Small Business Administration\n\n\n\nView Vietnamese Flyer here.\n\n\n\nView English Flyer here.
X-ALT-DESC;FMTTYPE=text/html:You are invited to join the webinar to learn about the SBA&#39\;s Economic Injury Disaster Loan (EIDL) program and Coronavirus Aid\, Relief &amp\; Economic Security Act (CARES ACT) to help Small Business impacted by Coronavirus.<br />\n<br />\nThis webinar is conducted in Vietnamese.<br />\n<br />\n<strong>SPEAKERS</strong>:<br />\n<strong>Ms. Christhien Tran Ley</strong><br />\nBusiness Service Manager<br />\nVirginia Department of Small Business and Supplier Diversity<br />\n<br />\n<strong>Libo Suen</strong><br />\nMarketing and Outreach Team Manager<br />\nWashington Metropolitan Area District Office (WMADO)<br />\n<strong>U.S. Small Business Administration</strong><br />\n<br />\n<a href="https://chambermaster.blob.core.windows.net/userfiles/UserFiles/chambers/3222/File/vietnamese-caresact.png" target="_blank">View Vietnamese Flyer here</a>.<br />\n<br />\n<a href="https://chambermaster.blob.core.windows.net/userfiles/UserFiles/chambers/3222/File/vietnamese-caresact_English.png" target="_blank">View English Flyer here</a>.
LOCATION:Webinar in Ti ng Vi t
UID:e.3222.1695
SEQUENCE:3
DTSTAMP:20260422T112958Z
URL:https://www.apacc.net/events/details/vietnamese-language-sba-s-economic-injury-disaster-loan-eidl-and-coronavirus-aid-relief-economic-security-act-cares-act-for-small-business-1695
END:VEVENT

END:VCALENDAR
