BEGIN:VCALENDAR
VERSION:2.0
PRODID:-//ChamberMaster//Event Calendar 2.0//EN
METHOD:PUBLISH
X-PUBLISHED-TTL:P3D
REFRESH-INTERVAL:P3D
CALSCALE:GREGORIAN
BEGIN:VEVENT
DTSTART:20200812T170000Z
DTEND:20200812T210000Z
X-MICROSOFT-CDO-ALLDAYEVENT:FALSE
SUMMARY:Van Andel Global Trade Center’s 3rd Annual Summer Summit
DESCRIPTION:Join GVSU's Van Andel Global Trade Center for its third annual Summer Summit! This half-day virtual event boasts a variety of global trade topics and best practices\, and fun! Van Andel Global Trade Center will cover hot topics in the ever-changing environment of international business and trade. Attendees will be able to choose from a variety of trade topics in small breakout sessions with industry experts to discuss topics such as value-added tax\, finance solutions\, global supply chain\, intellectual proper\, foreign-trade zones\, and more!\n\n\n\nKeynote Panel on Duty Drawback:  \n\n\n\nAmway   Greg Schroeder\, Director\, Global Customs & Trade Operations\n\n\n\nGentex   Scott Chamberlain\, Global Supply Chain Manager\n\n\n\nLearn More.
X-ALT-DESC;FMTTYPE=text/html:Join <strong>GVSU&rsquo\;s Van Andel Global Trade Center</strong> for its third annual Summer Summit! This half-day virtual event boasts a variety of global trade topics and best practices\, and fun! Van Andel Global Trade Center will cover hot topics in the ever-changing environment of international business and trade. Attendees will be able to choose from a variety of trade topics in small breakout sessions with industry experts to discuss topics such as value-added tax\, finance solutions\, global supply chain\, intellectual proper\, foreign-trade zones\, and more!<br />\n<br />\n<strong>Keynote Panel on Duty Drawback</strong>:&nbsp\;&nbsp\;<br />\n<br />\n<strong>Amway</strong> &ndash\; Greg Schroeder\, Director\, Global Customs &amp\; Trade Operations<br />\n<br />\n<strong>Gentex </strong>&ndash\; Scott Chamberlain\, Global Supply Chain Manager<br />\n<br />\n<a href="https://www.gvsu.edu/vagtc/event-view.htm?eventId=938FD013-0928-32DA-87A54EE6CE14E68E&amp\;mkt_tok=eyJpIjoiTkdJek5ETXhaalV6T1dVMCIsInQiOiJGOEdsV3FvdG9CdmRMeVZkdVJHTVhieHBhU2t0V09TazNXN25vOFwvOXdmMlFkaWtLTlwvcU8wTm1NT2NXMTlBTVNENGJPaEFBRTBMTGp4R0ZGNnZZTUwxeXhSRnppSERTNHVpbEhRN2FQRExlelJwV3hqcERGclJpRlwvNzhiVGM2cyJ9" target="_blank">Learn More</a>.
LOCATION:Virtual/Live by Grand Valley State University
UID:e.3222.1917
SEQUENCE:3
DTSTAMP:20260423T232045Z
URL:https://www.apacc.net/events/details/van-andel-global-trade-center-s-3rd-annual-summer-summit-1917
END:VEVENT

END:VCALENDAR
