BEGIN:VCALENDAR
VERSION:2.0
PRODID:-//ChamberMaster//Event Calendar 2.0//EN
METHOD:PUBLISH
X-PUBLISHED-TTL:P3D
REFRESH-INTERVAL:P3D
CALSCALE:GREGORIAN
BEGIN:VEVENT
DTSTART:20200728T160000Z
DTEND:20200728T173000Z
X-MICROSOFT-CDO-ALLDAYEVENT:FALSE
SUMMARY:USMCA & Future of Trade in North America
DESCRIPTION:The U.S. Commercial Service invites Women Entrepreneurs to join us for a FREE six-part digital series to acquire skills and tools to boldly expand sales into new markets in Canada\, Mexico and beyond! \n\n \n\nYou'll learn how you can benefit from the newly implemented United States-Mexico-Canada Agreement (USMCA) while also building a winning export strategy and developing valuable business connections. \n\n \n\nEach session will last for 60-90 minutes and will cover crucial topics to prepare you to succeed in global markets:  \n\n \n\nJULY 28: USMCA & Future of Trade in North America \n\n  \n\nAUG. 11: Financing the Deal and Getting Paid \n\n \n\nAUG. 25: Thriving in the Digital Trade Economy under USMCA \n\n \n\nSEPT. 1:  How to Make USMCA Work for You - Customs & Rules of Origin \n\n \n\nSEPT. 10: Legal Strategies for Success\n\n \n\nSEPT. 22: Protecting Your Most Important Asset - Your IP\n\n \n\nRegistrants from certain industries have the option to delve deeper into the forum topics and access additional services for a nominal fee.  Please visit the website for more details on this option. Sponsorship opportunities also available.
X-ALT-DESC;FMTTYPE=text/html:<div>The U.S. Commercial Service invites Women Entrepreneurs to join us for a FREE six-part digital series to acquire skills and tools to boldly expand sales into new markets in Canada\, Mexico and beyond!&nbsp\;<br />\n&nbsp\;</div>\n\n<div>You&#39\;ll learn how you can benefit from the newly implemented United States-Mexico-Canada Agreement (USMCA) while also building a winning export strategy and developing valuable business connections.&nbsp\;</div>\n\n<div>&nbsp\;</div>\n\n<div>Each session will last for 60-90 minutes and will cover crucial topics to prepare you to succeed in global markets:&nbsp\;&nbsp\;</div>\n\n<div>&nbsp\;</div>\n\n<div>JULY 28: USMCA &amp\; Future of Trade in North America&nbsp\;</div>\n\n<div>&nbsp\;&nbsp\;</div>\n\n<div>AUG. 11: Financing the Deal and Getting Paid&nbsp\;</div>\n\n<div>&nbsp\;</div>\n\n<div>AUG. 25: Thriving in the Digital Trade Economy under USMCA&nbsp\;</div>\n\n<div>&nbsp\;</div>\n\n<div>SEPT. 1:&nbsp\; How to Make USMCA Work for You - Customs &amp\; Rules of Origin&nbsp\;</div>\n\n<div>&nbsp\;</div>\n\n<div>SEPT. 10: Legal Strategies for Success</div>\n\n<div>&nbsp\;</div>\n\n<div>SEPT. 22: Protecting Your Most Important Asset - Your IP</div>\n\n<div>&nbsp\;</div>\n\n<div>Registrants from certain industries have the option to delve deeper into the forum topics and access additional services for a nominal fee.&nbsp\; Please visit the website for more details on this option. Sponsorship opportunities also available.</div>\n
LOCATION:Virtual Forum by U.S. Commercial Services
UID:e.3222.1832
SEQUENCE:3
DTSTAMP:20260424T110612Z
URL:https://www.apacc.net/events/details/usmca-future-of-trade-in-north-america-1832
END:VEVENT

END:VCALENDAR
