BEGIN:VCALENDAR
VERSION:2.0
PRODID:-//ChamberMaster//Event Calendar 2.0//EN
METHOD:PUBLISH
X-PUBLISHED-TTL:P3D
REFRESH-INTERVAL:P3D
CALSCALE:GREGORIAN
BEGIN:VEVENT
DTSTART:20200806T170000Z
DTEND:20200806T180000Z
X-MICROSOFT-CDO-ALLDAYEVENT:FALSE
SUMMARY:UPS Webinar: Finding Global E-commerce Success—A Small Business Chat
DESCRIPTION:You're invited to the first webinar in our new series for small business: Be Unstoppable.\n\n\n\nHave you thought about selling your products in other countries\, but you aren't sure how to handle international sales on your website? Or how to cost-effectively ship around the world?\n\n\n\nIn our new webinar\, Finding Global E-commerce Success A Small Business Chat\, you'll hear how small businesses have found ways to convert international visitors to their site into customers\, and then fulfill those orders quickly and economically.\n\n\n\nJoin Jarrod Purdon\, UPS Director of Marketing\, U.S. Exports Group\, George Luck\, COO of Vanishing Inc. Magic Store\, and Tawnee Steinke\, Zonos Strategic Partner Manager\, as we discuss how small businesses are successfully selling and shipping internationally\, and how your business can replicate that success. \n\nWe'll share: \n\n	How quick and easy it is to implement cost-effective global e-commerce solutions\n	The impact that exporting has had on our featured customer's sales and growth\n	How Zonos solutions can help make international checkout on your site simple\n	The portfolio of export solutions UPS can customize for your business needs\n	How going global can help your business diversify and adapt to changing market conditions
X-ALT-DESC;FMTTYPE=text/html:You&rsquo\;re invited to the first webinar in our new series for small business: <strong>Be Unstoppable.</strong><br />\n<br />\nHave you thought about selling your products in other countries\, but you aren&rsquo\;t sure how to handle international sales on your website? Or how to cost-effectively ship around the world?<br />\n<br />\nIn our new webinar\, Finding Global E-commerce Success&mdash\;A Small Business Chat\, you&rsquo\;ll hear how small businesses have found ways to convert international visitors to their site into customers\, and then fulfill those orders quickly and economically.<br />\n<br />\nJoin Jarrod Purdon\, UPS Director of Marketing\, U.S. Exports Group\, George Luck\, COO of Vanishing Inc. Magic Store\, and Tawnee Steinke\, Zonos Strategic Partner Manager\, as we discuss how small businesses are successfully selling and shipping internationally\, and how your business can replicate that success.&nbsp\;<br />\n<strong>We&rsquo\;ll share</strong>:&nbsp\;\n<ul>\n	<li>How quick and easy it is to implement cost-effective global e-commerce solutions</li>\n	<li>The impact that exporting has had on our featured customer&rsquo\;s sales and growth</li>\n	<li>How Zonos solutions can help make international checkout on your site simple</li>\n	<li>The portfolio of export solutions UPS can customize for your business needs</li>\n	<li>How going global can help your business diversify and adapt to changing market conditions</li>\n</ul>\n
LOCATION:Webinar by UPS
UID:e.3222.1914
SEQUENCE:3
DTSTAMP:20260422T052007Z
URL:https://www.apacc.net/events/details/ups-webinar-finding-global-e-commerce-success-a-small-business-chat-1914
END:VEVENT

END:VCALENDAR
