BEGIN:VCALENDAR
VERSION:2.0
PRODID:-//ChamberMaster//Event Calendar 2.0//EN
METHOD:PUBLISH
X-PUBLISHED-TTL:P3D
REFRESH-INTERVAL:P3D
CALSCALE:GREGORIAN
BEGIN:VEVENT
DTSTART:20200701T170000Z
DTEND:20200701T180000Z
X-MICROSOFT-CDO-ALLDAYEVENT:FALSE
SUMMARY:Upcoming Energy Projects in Remote Indigenous Communities in Panama
DESCRIPTION:Overview\n\n  Panama is negotiating a loan with the IDB for $60 million to have energy in remote indigenous areas of Panama as the new administration is looking into reducing the percentage of people without electricity.\n\n\n\nObjectives\n\n  Learn about energy projects for remote areas in Panama\n\n\n\nEvent Information\n\n	The administration is keen to expand renewables industry and to steer clear of hydropower.\n	The OER is responsible for promoting and developing electricity in rural areas not served and not concessioned from renewable energy and non-renewable energy\n	The key projects they will be working on are: Rural Electrification Project through Network Extension and development of pilot projects of micro grids\, and:\n	small hydroelectric plants\, wind plants\, photovoltaic systems or other renewable energies aimed at preserving the environment\, improving the environment
X-ALT-DESC;FMTTYPE=text/html:<strong>Overview</strong><br />\n&nbsp\; Panama is negotiating a loan with the IDB for $60 million to have energy in remote indigenous areas of Panama as the new administration is looking into reducing the percentage of people without electricity.<br />\n<br />\n<strong>Objectives</strong><br />\n&nbsp\; Learn about energy projects for remote areas in Panama<br />\n<br />\n<strong>Event Information</strong>\n<ul>\n	<li>The administration is keen to expand renewables industry and to steer clear of hydropower.</li>\n	<li>The OER is responsible for promoting and developing electricity in rural areas not served and not concessioned from renewable energy and non-renewable energy</li>\n	<li>The key projects they will be working on are: Rural Electrification Project through Network Extension and development of pilot projects of micro grids\, and:</li>\n	<li>small hydroelectric plants\, wind plants\, photovoltaic systems or other renewable energies aimed at preserving the environment\, improving the environment</li>\n</ul>\n
LOCATION:Webinar by U.S. Commercial Services
UID:e.3222.1816
SEQUENCE:3
DTSTAMP:20260422T065939Z
URL:https://www.apacc.net/events/details/upcoming-energy-projects-in-remote-indigenous-communities-in-panama-1816
END:VEVENT

END:VCALENDAR
