BEGIN:VCALENDAR
VERSION:2.0
PRODID:-//ChamberMaster//Event Calendar 2.0//EN
METHOD:PUBLISH
X-PUBLISHED-TTL:P3D
REFRESH-INTERVAL:P3D
CALSCALE:GREGORIAN
BEGIN:VEVENT
DTSTART:20250918T130000Z
DTEND:20250919T200000Z
X-MICROSOFT-CDO-ALLDAYEVENT:FALSE
SUMMARY:Understanding and Improving Your Safety Culture
DESCRIPTION:Course Description:\n\n\n\nThis course will provide the knowledge and tools for participants to gain an understanding of the factors that affect culture and how it impacts safety performance. Management Leadership/Commitment and Employee Involvement are the most critical components of having an effective Safety and Health Management System (SHMS). This course will use data\, examples\, case studies\, and activities to illustrate best practices and assist participants in improving their company's safety culture.\n\n\n\nAgenda:\n\n	Define organizational culture and its effect on performance.\n	Evaluate safety culture.\n	Explore techniques to improve safety culture.\n	Examine what good\, positive safety culture looks like.\n\nAll meetings are accessible and barrier free. Please contact the cosponsor or the CET Division\, at least 30 days in advance\, to request necessary accommodations.\n\n\n\nThe meeting site and parking are accessible. Individuals attending the meeting are requested to refrain from using heavily scented personal care products\, in order to enhance accessibility for everyone. People with disabilities requiring additional services (such as materials in alternative format) in order to participate in the meeting should call 517-284-7720 at least 30 days before the program. The Department of Labor and Economic Opportunity (LEO) is an equal opportunity employer/program.
X-ALT-DESC;FMTTYPE=text/html:<br />\n<strong>Course Description:</strong><br />\n<br />\nThis course will provide the knowledge and tools for participants to gain an understanding of the factors that affect culture and how it impacts safety performance. Management Leadership/Commitment and Employee Involvement are the most critical components of having an effective Safety and Health Management System (SHMS). This course will use data\, examples\, case studies\, and activities to illustrate best practices and assist participants in improving their company&rsquo\;s safety culture.<br />\n<br />\n<strong>Agenda:</strong>\n<ul>\n	<li>Define organizational culture and its effect on performance.</li>\n	<li>Evaluate safety culture.</li>\n	<li>Explore techniques to improve safety culture.</li>\n	<li>Examine what good\, positive safety culture looks like.</li>\n</ul>\nAll meetings are accessible and barrier free. Please contact the cosponsor or the CET Division\, at least 30 days in advance\, to request necessary accommodations.<br />\n<br />\nThe meeting site and parking are accessible. Individuals attending the meeting are requested to refrain from using heavily scented personal care products\, in order to enhance accessibility for everyone. People with disabilities requiring additional services (such as materials in alternative format) in order to participate in the meeting should call 517-284-7720 at least 30 days before the program. The Department of Labor and Economic Opportunity (LEO) is an equal opportunity employer/program.
LOCATION:Lansing Community College - West Campus
UID:e.3222.3017
SEQUENCE:3
DTSTAMP:20260425T222308Z
URL:https://www.apacc.net/events/details/understanding-and-improving-your-safety-culture-3017
END:VEVENT

END:VCALENDAR
