BEGIN:VCALENDAR
VERSION:2.0
PRODID:-//ChamberMaster//Event Calendar 2.0//EN
METHOD:PUBLISH
X-PUBLISHED-TTL:P3D
REFRESH-INTERVAL:P3D
CALSCALE:GREGORIAN
BEGIN:VEVENT
DTSTART:20201027T180000Z
DTEND:20201027T190000Z
X-MICROSOFT-CDO-ALLDAYEVENT:FALSE
SUMMARY:U.S. Patent and Trademark Office Presents Expanding the Innovation Ecosystem
DESCRIPTION:The White House Initiative on Asian Americans and Pacific Islanders (WHIAAPI) invites you to participate in The Future of Business Virtual Series with the U.S. Patent and Trademark Office (USPTO) on their efforts to expand the innovation ecosystem to individuals from underrepresented groups. This will be a great opportunity to learn about the different resources and tools that USPTO provides to support businesses and inventors as they grant U.S. patents and register trademarks. There will be special remarks from Laura Peter\, Deputy Under Secretary of Commerce for Intellectual Property and Deputy Director of the USPTO. Also joining us will be Branden Ritchie\, Director of Government Affairs and Oversight\; Kimberly Alton\, Deputy Director of Government Affairs and Oversight\; and Cordelia (Dede) Zecher Special Advisor to the Under Secretary of Commerce for Intellectual Property and Director of the USPTO. Special guest moderator\, Jan-Ie Low of Nevada\, President's Advisory Commission on Asian Americans and Pacific Islanders Commissioner.\n\n	Opening Remarks & Presentation by the Deputy Under Secretary for Intellectual Property and Deputy Director of the USPTO\, Laura Peter\n	Presenters: Branden Ritchie\, Director of Government Affairs and Oversight\; Kimberly Alton\, Deputy Director of Government Affairs and Oversight\; and Cordelia (Dede) Zecher Special Advisor to the Under Secretary of Commerce for Intellectual Property and Director of the USPTO\n	Special Guest Moderator: Jan-Ie Low of Nevada\, President's Advisory Commission on Asian Americans and Pacific Islanders Commissioner
X-ALT-DESC;FMTTYPE=text/html:The White House Initiative on Asian Americans and Pacific Islanders (WHIAAPI) invites you to participate in The Future of Business Virtual Series with the U.S. Patent and Trademark Office (USPTO) on their efforts to expand the innovation ecosystem to individuals from underrepresented groups. This will be a great opportunity to learn about the different resources and tools that USPTO provides to support businesses and inventors as they grant U.S. patents and register trademarks. There will be special remarks from Laura Peter\, Deputy Under Secretary of Commerce for Intellectual Property and Deputy Director of the USPTO. Also joining us will be Branden Ritchie\, Director of Government Affairs and Oversight\; Kimberly Alton\, Deputy Director of Government Affairs and Oversight\; and Cordelia (Dede) Zecher Special Advisor to the Under Secretary of Commerce for Intellectual Property and Director of the USPTO. Special guest moderator\, Jan-Ie Low of Nevada\, President&rsquo\;s Advisory Commission on Asian Americans and Pacific Islanders Commissioner.\n<ul>\n	<li>Opening Remarks &amp\; Presentation by the Deputy Under Secretary for Intellectual Property and Deputy Director of the USPTO\, Laura Peter</li>\n	<li>Presenters: Branden Ritchie\, Director of Government Affairs and Oversight\; Kimberly Alton\, Deputy Director of Government Affairs and Oversight\; and Cordelia (Dede) Zecher Special Advisor to the Under Secretary of Commerce for Intellectual Property and Director of the USPTO</li>\n	<li>Special Guest Moderator: Jan-Ie Low of Nevada\, President&rsquo\;s Advisory Commission on Asian Americans and Pacific Islanders Commissioner</li>\n</ul>\n
LOCATION:Webinar
UID:e.3222.1996
SEQUENCE:3
DTSTAMP:20260422T040820Z
URL:https://www.apacc.net/events/details/u-s-patent-and-trademark-office-presents-expanding-the-innovation-ecosystem-1996
END:VEVENT

END:VCALENDAR
