BEGIN:VCALENDAR
VERSION:2.0
PRODID:-//ChamberMaster//Event Calendar 2.0//EN
METHOD:PUBLISH
X-PUBLISHED-TTL:P3D
REFRESH-INTERVAL:P3D
CALSCALE:GREGORIAN
BEGIN:VEVENT
DTSTART:20200729T140000Z
DTEND:20200729T150000Z
X-MICROSOFT-CDO-ALLDAYEVENT:FALSE
SUMMARY:U.S. Economic Outlook featuring economist Dan North
DESCRIPTION:What does the future hold for the U.S. economy?\n\nThat is a question we would all like answered\, especially as we enter into month six of reacting to COVID-19\, the pandemic that has shaken the world by surprise.\n\n\n\nWe certainly can't attest to having all of the answers or owning a crystal ball. However\, our guest speaker Dan North certainly has a proven track record of offering insightful perspectives on the U.S. economic forecast. \n\n\n\nJoin us and hear from Dan on the following:\n\n	Viewpoints on issues including the unemployment and jobs\, \n	GDP\, \n	Federal Reserve\, \n	manufacturing\, insolvencies\, trade   including their impact on North American businesses\n\n\n\nOur Featured Guest Speaker: Dan North\n\nAs Chief Economist for Euler Hermes\, Dan North has appeared on CNBC\, Fox Business News\, France 24\, The Street\, and Bloomberg Radio and Television. He has been quoted by Barron's\, Business Week\, Paris Le Monde\, Tokyo Nikkei\, the BBC\, the New York Times and the Wall Street Journal. Dan has been with Euler Hermes North America since 1996\, using macroeconomics and quantitative analyses to help manage a risk portfolio of over $150 billion in annual U.S. trade transactions.
X-ALT-DESC;FMTTYPE=text/html:What does the future hold for the U.S. economy?<br />\nThat is a question we would all like answered\, especially as we enter into month six of reacting to COVID-19\, the pandemic that has shaken the world by surprise.<br />\n<br />\nWe certainly can&#39\;t attest to having all of the answers or owning a crystal ball. However\, our guest speaker Dan North certainly has a proven track record of offering insightful perspectives on the U.S. economic forecast.&nbsp\;<br />\n<br />\nJoin us and hear from Dan on the following:\n<ul>\n	<li>Viewpoints on issues including the unemployment and jobs\,&nbsp\;</li>\n	<li>GDP\,&nbsp\;</li>\n	<li>Federal Reserve\,&nbsp\;</li>\n	<li>manufacturing\, insolvencies\, trade &ndash\; including their impact on North American businesses</li>\n</ul>\n<br />\nOur Featured Guest Speaker: <strong>Dan North</strong><br />\nAs Chief Economist for Euler Hermes\, Dan North has appeared on CNBC\, Fox Business News\, France 24\, The Street\, and Bloomberg Radio and Television. He has been quoted by Barron&rsquo\;s\, Business Week\, Paris Le Monde\, Tokyo Nikkei\, the BBC\, the New York Times and the Wall Street Journal. Dan has been with Euler Hermes North America since 1996\, using macroeconomics and quantitative analyses to help manage a risk portfolio of over $150 billion in annual U.S. trade transactions.
LOCATION:Webinar by Hylant
UID:e.3222.1903
SEQUENCE:3
DTSTAMP:20260424T021902Z
URL:https://www.apacc.net/events/details/u-s-economic-outlook-featuring-economist-dan-north-1903
END:VEVENT

END:VCALENDAR
