BEGIN:VCALENDAR
VERSION:2.0
PRODID:-//ChamberMaster//Event Calendar 2.0//EN
METHOD:PUBLISH
X-PUBLISHED-TTL:P3D
REFRESH-INTERVAL:P3D
CALSCALE:GREGORIAN
BEGIN:VEVENT
DTSTART:20201028T193000Z
DTEND:20201028T203000Z
X-MICROSOFT-CDO-ALLDAYEVENT:FALSE
SUMMARY:U.S. Department of Labor Presents Helping Business Succeed and Workers Stay Safe
DESCRIPTION:The White House Initiative on Asian Americans and Pacific Islanders (WHIAAPI) invites you to participate in The Future of Business Virtual Series with the U.S. Department of Labor. US Department of Labor will provide AAPI businesses up-to-date information on federal workplace requirements during the COVID-19 pandemic. OSHA and the Wage and Hour Division will share their agencies' recent enforcement and robust assistance work around new rules and regulations to help businesses succeed and workers stay safe during these unprecedented and challenging times.\n\n	Special Greetings: U.S. Secretary Eugene Scalia of Labor\n	Presenters: Principal Deputy Assistant Secretary of Labor Loren Sweatt\, Occupational Safety and Health Administration (OSHA) & Administrator Cheryl M. Stanton\, Wage and Hour Division (WHD)\n	Guest Moderators: (tentative) WHIAAPI Regional Network leads   Paul Chang\, Regional Anti-Human Trafficking Investigations Coordinator\, WHD and Ambreen Tariq\, Strategic Communications\, WHD
X-ALT-DESC;FMTTYPE=text/html:<br />\nThe White House Initiative on Asian Americans and Pacific Islanders (WHIAAPI) invites you to participate in The Future of Business Virtual Series with the U.S. Department of Labor. US Department of Labor will provide AAPI businesses up-to-date information on federal workplace requirements during the COVID-19 pandemic. OSHA and the Wage and Hour Division will share their agencies&#39\; recent enforcement and robust assistance work around new rules and regulations to help businesses succeed and workers stay safe during these unprecedented and challenging times.\n<ul>\n	<li>Special Greetings: U.S. Secretary Eugene Scalia of Labor</li>\n	<li>Presenters: Principal Deputy Assistant Secretary of Labor Loren Sweatt\, Occupational Safety and Health Administration (OSHA) &amp\; Administrator Cheryl M. Stanton\, Wage and Hour Division (WHD)</li>\n	<li>Guest Moderators: (tentative) WHIAAPI Regional Network leads &ndash\; Paul Chang\, Regional Anti-Human Trafficking Investigations Coordinator\, WHD and Ambreen Tariq\, Strategic Communications\, WHD</li>\n</ul>\n
LOCATION:Webinar
UID:e.3222.1997
SEQUENCE:3
DTSTAMP:20260424T073559Z
URL:https://www.apacc.net/events/details/u-s-department-of-labor-presents-helping-business-succeed-and-workers-stay-safe-1997
END:VEVENT

END:VCALENDAR
