BEGIN:VCALENDAR
VERSION:2.0
PRODID:-//ChamberMaster//Event Calendar 2.0//EN
METHOD:PUBLISH
X-PUBLISHED-TTL:P3D
REFRESH-INTERVAL:P3D
CALSCALE:GREGORIAN
BEGIN:VEVENT
DTSTART:20201005T160000Z
DTEND:20201009T160000Z
X-MICROSOFT-CDO-ALLDAYEVENT:FALSE
SUMMARY:U.S. Cyber-Security Business Development Mission to South America
DESCRIPTION:The United States Department of Commerce\, International Trade Administration (ITA)\, is organizing a Cybersecurity Business Development Mission to Santiago\, Chile\; Montevideo\, Uruguay\; and Lima\, Peru\, October 5 9\, 2020\, along with an optional stop in Buenos Aires\, Argentina on October 13\, 2020. The objective of the mission is to introduce U.S. firms and organizations to South America's information and communication technology (ICT)\, security\, and critical infrastructure protection markets.\n\n \n\nTargeted U.S. Cyber Security Solutions: \n\n \n\nThe mission is designed for U.S. firms and organizations who play a part in the industry\, especially those with products in the following categories:\n\n \n\n  Digital Infrastructure\n\n  Emergency management technology equipment and services\n\n  Information technology and big data security and management service (e.g. electronic health records\, billing information\, etc.)\n\n  Cyber security software and equipment\n\n  Cyber Security Training Software and Services\n\n  Critical infrastructure protection systems and management solutions\n\n  Data loss and privacy protection technologies\n\n  Endpoint protection and threat response solutions\n\n  Fraud and identity theft\n\n  Mobile and application security\n\n  Vulnerability assessment and remediation solutions\n\n\n\nFor more information contact Gemal Brangman at Gemal.Brangman@trade.gov or Paul Matino at Paul.Matino@trade.gov.
X-ALT-DESC;FMTTYPE=text/html:<div>The United States Department of Commerce\, International Trade Administration (ITA)\, is organizing a Cybersecurity Business Development Mission to Santiago\, Chile\; Montevideo\, Uruguay\; and Lima\, Peru\, October 5&ndash\;9\, 2020\, along with an optional stop in Buenos Aires\, Argentina on October 13\, 2020. The objective of the mission is to introduce U.S. firms and organizations to South America&rsquo\;s information and communication technology (ICT)\, security\, and critical infrastructure protection markets.</div>\n\n<div>&nbsp\;</div>\n\n<div>Targeted U.S. Cyber Security Solutions:&nbsp\;<br />\n&nbsp\;</div>\n\n<div>The mission is designed for U.S. firms and organizations who play a part in the industry\, especially those with products in the following categories:<br />\n&nbsp\;</div>\n\n<div>&bull\;<span style="white-space:pre"> </span>Digital Infrastructure</div>\n\n<div>&bull\;<span style="white-space:pre"> </span>Emergency management technology equipment and services</div>\n\n<div>&bull\;<span style="white-space:pre"> </span>Information technology and big data security and management service (e.g. electronic health records\, billing information\, etc.)</div>\n\n<div>&bull\;<span style="white-space:pre"> </span>Cyber security software and equipment</div>\n\n<div>&bull\;<span style="white-space:pre"> </span>Cyber Security Training Software and Services</div>\n\n<div>&bull\;<span style="white-space:pre"> </span>Critical infrastructure protection systems and management solutions</div>\n\n<div>&bull\;<span style="white-space:pre"> </span>Data loss and privacy protection technologies</div>\n\n<div>&bull\;<span style="white-space:pre"> </span>Endpoint protection and threat response solutions</div>\n\n<div>&bull\;<span style="white-space:pre"> </span>Fraud and identity theft</div>\n\n<div>&bull\;<span style="white-space:pre"> </span>Mobile and application security</div>\n\n<div>&bull\;<span style="white-space:pre"> </span>Vulnerability assessment and remediation solutions<br />\n<br />\nFor more information contact Gemal Brangman at <a href="mailto:Gemal.Brangman@trade.gov" target="_blank">Gemal.Brangman@trade.gov</a> or Paul Matino at <a href="mailto:Paul.Matino@trade.gov" target="_blank">Paul.Matino@trade.gov</a>.</div>\n
LOCATION:
UID:e.3222.1797
SEQUENCE:3
DTSTAMP:20260424T074208Z
URL:https://www.apacc.net/events/details/u-s-cyber-security-business-development-mission-to-south-america-1797
END:VEVENT

END:VCALENDAR
