BEGIN:VCALENDAR
VERSION:2.0
PRODID:-//ChamberMaster//Event Calendar 2.0//EN
METHOD:PUBLISH
X-PUBLISHED-TTL:P3D
REFRESH-INTERVAL:P3D
CALSCALE:GREGORIAN
BEGIN:VEVENT
DTSTART:20200602T140000Z
DTEND:20200602T150000Z
X-MICROSOFT-CDO-ALLDAYEVENT:FALSE
SUMMARY:U.S. Commercial Service Presents: Doing Business in the Arabian Gulf
DESCRIPTION:Learn about the Arabian Gulf best prospect sectors\, including oil and gas\, infrastructure\, information and communication technology\, advanced manufacturing\, aerospace and defense\, cybersecurity\, healthcare\, and environmental technologies.\n\n\n\nOverview\n\n  Join speakers from the U.S. Embassies in Abu Dhabi\, Doha\, Muscat and Kuwait City\, & Baker McKenzie as they provide information for U.S. companies interested in strengthening business relationships & increasing exports to the region.\n\n\n\nObjectives\n\n  Learn more about doing business in the Gulf region.\n\n\n\nEvent Information:\n\n	With a combined GDP of $825 billion across Kuwait\, Oman\, Qatar\, & the UAE\, the Gulf region represents one of the highest potential export markets for US firms.\n	With a world-class oil & gas sector and national plans for diversification\, best prospects exist in numerous industry sectors.\n	Learn about infrastructure\, communication technology\, advanced manufacturing\, aerospace/defense\, cyber security\, healthcare\, and environmental technologies.\n	The Gulf is well-positioned for exploring opportunities beyond the region due to its geographic location within an 8-hour flight of 2/3 the world's population.\n\nPlease read the following information carefully:\n\n\n	The U.S. Commercial Service requires event registrants to accept specific Terms and Conditions and review Product Standards before payment can be collected.\n	Please read the Privacy Act Notice.\n	Tuesday\, June 2\, 2020 10:00 a.m. - 11:00 a.m. ET Cost: $25 per participant per webinar.\n	You will receive 3 emails. First email is your registration receipt. Second eMail contains participation information. Reminder eMail 24-hrs in advance.\n	Participation is via your computer and phone line.\n	For more information contact Linda Abbruzzese at 202-482-3787 or Linda.Abbruzzese@trade.gov.\n	System Requirements https://www.mymeetings.com/custom/res/content/net/net_conf_sys_req.php?lang=/en.
X-ALT-DESC;FMTTYPE=text/html:Learn about the Arabian Gulf best prospect sectors\, including oil and gas\, infrastructure\, information and communication technology\, advanced manufacturing\, aerospace and defense\, cybersecurity\, healthcare\, and environmental technologies.<br />\n<br />\n<strong>Overview</strong><br />\n&nbsp\; Join speakers from the U.S. Embassies in Abu Dhabi\, Doha\, Muscat and Kuwait City\, &amp\; Baker McKenzie as they provide information for U.S. companies interested in strengthening business relationships &amp\; increasing exports to the region.<br />\n<br />\n<strong>Objectives</strong><br />\n&nbsp\; Learn more about doing business in the Gulf region.<br />\n<br />\n<strong>Event Information:</strong>\n<ul>\n	<li>With a combined GDP of $825 billion across Kuwait\, Oman\, Qatar\, &amp\; the UAE\, the Gulf region represents one of the highest potential export markets for US firms.</li>\n	<li>With a world-class oil &amp\; gas sector and national plans for diversification\, best prospects exist in numerous industry sectors.</li>\n	<li>Learn about infrastructure\, communication technology\, advanced manufacturing\, aerospace/defense\, cyber security\, healthcare\, and environmental technologies.</li>\n	<li>The Gulf is well-positioned for exploring opportunities beyond the region due to its geographic location within an 8-hour flight of 2/3 the world&#39\;s population.</li>\n</ul>\nPlease read the following information carefully:\n\n<ul>\n	<li>The U.S. Commercial Service requires event registrants to accept specific Terms and Conditions and review Product Standards before payment can be collected.</li>\n	<li>Please read the <a href="https://emenuapps.ita.doc.gov/ePublic/Privacy_Act_Notice.htm" target="_blank">Privacy Act Notice</a>.</li>\n	<li>Tuesday\, June 2\, 2020 10:00 a.m. - 11:00 a.m. ET Cost: $25 per participant per webinar.</li>\n	<li>You will receive 3 emails. First email is your registration receipt. Second eMail contains participation information. Reminder eMail 24-hrs in advance.</li>\n	<li>Participation is via your computer and phone line.</li>\n	<li>For more information contact Linda Abbruzzese at 202-482-3787 or <a href="mailto:Linda.Abbruzzese@trade.gov" target="_blank">Linda.Abbruzzese@trade.gov</a>.</li>\n	<li>System Requirements <a href="https://www.mymeetings.com/custom/res/content/net/net_conf_sys_req.php?lang=/en" target="_blank">https://www.mymeetings.com/custom/res/content/net/net_conf_sys_req.php?lang=/en.</a></li>\n</ul>\n
LOCATION:Webinar by U.S. Commercial Service
UID:e.3222.1756
SEQUENCE:3
DTSTAMP:20260420T113805Z
URL:https://www.apacc.net/events/details/u-s-commercial-service-presents-doing-business-in-the-arabian-gulf-1756
END:VEVENT

END:VCALENDAR
