BEGIN:VCALENDAR
VERSION:2.0
PRODID:-//ChamberMaster//Event Calendar 2.0//EN
METHOD:PUBLISH
X-PUBLISHED-TTL:P3D
REFRESH-INTERVAL:P3D
CALSCALE:GREGORIAN
BEGIN:VEVENT
DTSTART:20210204T160000Z
DTEND:20210204T170000Z
X-MICROSOFT-CDO-ALLDAYEVENT:FALSE
SUMMARY:Transfer Planning Days
DESCRIPTION:Meet with a Walsh admissions team member virtually! Select your preferred date to sign up in advance. You will receive a zoom link to join the virtual session. Personalized appointment to review your transfer courses that will be accepted at Walsh Learn how you can transfer up to 90 credits to Walsh and scholarship options Set up your transfer plan and have your application fee waived We encourage you to send a copy of your student transcript to transcripts@walshcollege.edu to review your transfer credit on the spot. If you are ready to apply\, we will waive your application fee. If you would like to meet with a Walsh advisor on a different day\, you may reserve an appointment online or contact admissions@walshcollege.edu.
X-ALT-DESC;FMTTYPE=text/html:<br />\nMeet with a Walsh admissions team member virtually! Select your preferred date to sign up in advance. You will receive a zoom link to join the virtual session. Personalized appointment to review your transfer courses that will be accepted at Walsh Learn how you can transfer up to 90 credits to Walsh and scholarship options Set up your transfer plan and have your application fee waived We encourage you to send a copy of your student transcript to transcripts@walshcollege.edu to review your transfer credit on the spot. If you are ready to apply\, we will waive your application fee. If you would like to meet with a Walsh advisor on a different day\, you may reserve an appointment online or contact admissions@walshcollege.edu.
LOCATION:Virtual
UID:e.3222.2055
SEQUENCE:3
DTSTAMP:20260424T082307Z
URL:https://www.apacc.net/events/details/transfer-planning-days-2055
END:VEVENT

END:VCALENDAR
