BEGIN:VCALENDAR
VERSION:2.0
PRODID:-//ChamberMaster//Event Calendar 2.0//EN
METHOD:PUBLISH
X-PUBLISHED-TTL:P3D
REFRESH-INTERVAL:P3D
CALSCALE:GREGORIAN
BEGIN:VEVENT
DTSTART:20210420T140000Z
DTEND:20210420T142000Z
X-MICROSOFT-CDO-ALLDAYEVENT:FALSE
SUMMARY:Trade Talk Tuesday - Digital Strategies for Successful International Online Sales
DESCRIPTION:Join the U.S. Commercial Service\, along with the East and West Michigan District Export Councils (DECs)\, for a free\, 20-minute discussion on digital strategies for your international online sales.  This brief webinar will highlight the importance of a digital strategy and related resources available to your company as you strive to increase your international online sales.  Learn from a business representative who has benefitted from the development and execution of a digital strategy as well as the Director of the U.S. Commercial Service's eCommerce Innovation Lab. \n\nTo learn more about resources for business digital strategy: https://www.trade.gov/ecommerce. \n\n\n\nPanelists\n\nJames Bledsoe\n\nDirector\, eCommerce Innovation Lab\, U.S. Commercial Service\, \n\nU.S. Department of Commerce\n\n\n\nErica Potter\n\nMarketing Officer\n\nSkylife Global\n\n\n\nDarren Srebnick (Moderator)\n\nDirector\, U.S. Commercial Service (Columbus\, OH)\n\nU.S. Department of Commerce
X-ALT-DESC;FMTTYPE=text/html:<br />\nJoin the U.S. Commercial Service\, along with the East and West Michigan District Export Councils (DECs)\, for a free\, 20-minute discussion on digital strategies for your international online sales.&nbsp\; This brief webinar will highlight the importance of a digital strategy and related resources available to your company as you strive to increase your international online sales.&nbsp\; Learn from a business representative who has benefitted from the development and execution of a digital strategy as well as the Director of the U.S. Commercial Service&rsquo\;s eCommerce Innovation Lab.&nbsp\;<br />\nTo learn more about resources for business digital strategy:&nbsp\;<a href="https://www.trade.gov/ecommerce" target="_blank">https://www.trade.gov/ecommerce</a>.&nbsp\;<br />\n<br />\n<u><strong>Panelists</strong></u><br />\n<strong>James Bledsoe</strong><br />\nDirector\, eCommerce Innovation Lab\, U.S. Commercial Service\,&nbsp\;<br />\nU.S. Department of Commerce<br />\n<br />\n<strong>Erica Potter</strong><br />\nMarketing Officer<br />\nSkylife Global<br />\n<br />\n<strong>Darren Srebnick (Moderator)</strong><br />\nDirector\, U.S. Commercial Service (Columbus\, OH)<br />\nU.S. Department of Commerce
LOCATION:Virtual
UID:e.3222.2098
SEQUENCE:3
DTSTAMP:20260423T032055Z
URL:https://www.apacc.net/events/details/trade-talk-tuesday-digital-strategies-for-successful-international-online-sales-2098
END:VEVENT

END:VCALENDAR
