BEGIN:VCALENDAR
VERSION:2.0
PRODID:-//ChamberMaster//Event Calendar 2.0//EN
METHOD:PUBLISH
X-PUBLISHED-TTL:P3D
REFRESH-INTERVAL:P3D
CALSCALE:GREGORIAN
BEGIN:VEVENT
DTSTART:20210430T180000Z
DTEND:20210430T190000Z
X-MICROSOFT-CDO-ALLDAYEVENT:FALSE
SUMMARY:Trade and the New Administration: What Business Owners Should Know
DESCRIPTION:Join National ACE\, UPS\, and the California Asian Pacific Chamber of Commerce on Friday\, April 30 at 2pm ET\, for the virtual event "Trade and the New Administration: What Business Owners Should Know." The conversation will focus on the 2021 trade policy agenda and will provide participants with unique and practical insights into policies that will impact supply chains over the coming year.\n\n\n\nHear from UPS's President of International Public Affairs & Sustainability and from UPS's Vice President of Global Public Affairs regarding the Administration's trade agenda\, US-China relations and the impact on tariffs and other trade measures\, the USMCA trade agreement\, UPS's engagement on trade with Congress\, and UPS's new commitment to an Inclusive Trade Agenda.\n\n\n\nSpeakers:\n\n	Ximena Roth\, Marketing Manager\, Diverse Customer Segment\, UPS\n\n\n\n	Dontai Smalls\, VP\, Global Public Affairs\, UPS\n\n\n\n	Penelope Naas\, President for International Public Affairs and Sustainability\, UPS\n\n\n\n	Chiling Tong\, CEO/President\, National Ace\n\n\n\n	Maye Saephanh\, VP of Global & Domestic Programs\, CalAsian
X-ALT-DESC;FMTTYPE=text/html:<br />\n<br />\nJoin National ACE\, UPS\, and the California Asian Pacific Chamber of Commerce on Friday\, April 30 at 2pm ET\, for the virtual event &ldquo\;Trade and the New Administration: What Business Owners Should Know.&rdquo\; The conversation will focus on the 2021 trade policy agenda and will provide participants with unique and practical insights into policies that will impact supply chains over the coming year.<br />\n<br />\nHear from UPS&rsquo\;s President of International Public Affairs &amp\; Sustainability and from UPS&rsquo\;s Vice President of Global Public Affairs regarding the Administration&rsquo\;s trade agenda\, US-China relations and the impact on tariffs and other trade measures\, the USMCA trade agreement\, UPS&rsquo\;s engagement on trade with Congress\, and UPS&rsquo\;s new commitment to an Inclusive Trade Agenda.<br />\n<br />\n<u><strong>Speakers:</strong></u>\n<ul>\n	<li><strong>Ximena Roth</strong>\, Marketing Manager\, Diverse Customer Segment\, UPS</li>\n</ul>\n\n<ul>\n	<li><strong>Dontai Smalls</strong>\, VP\, Global Public Affairs\, UPS</li>\n</ul>\n\n<ul>\n	<li><strong>Penelope Naas</strong>\, President for International Public Affairs and Sustainability\, UPS</li>\n</ul>\n\n<ul>\n	<li><strong>Chiling Tong</strong>\, CEO/President\, National Ace</li>\n</ul>\n\n<ul>\n	<li><strong>Maye Saephanh</strong>\, VP of Global &amp\; Domestic Programs\, CalAsian</li>\n</ul>\n
LOCATION:Virtual
UID:e.3222.2118
SEQUENCE:3
DTSTAMP:20260423T032107Z
URL:https://www.apacc.net/events/details/trade-and-the-new-administration-what-business-owners-should-know-2118
END:VEVENT

END:VCALENDAR
