BEGIN:VCALENDAR
VERSION:2.0
PRODID:-//ChamberMaster//Event Calendar 2.0//EN
METHOD:PUBLISH
X-PUBLISHED-TTL:P3D
REFRESH-INTERVAL:P3D
CALSCALE:GREGORIAN
BEGIN:VEVENT
DTSTART:20191106T123000Z
DTEND:20191106T210000Z
X-MICROSOFT-CDO-ALLDAYEVENT:FALSE
SUMMARY:TOYOTA 30th Opportunity Exchange
DESCRIPTION:Since launching in 1990\, Opportunity Exchange (OE) has exemplified Toyota's commitment to the growth and sustainability of diverse businesses across North America. We look forward to celebrating OE's 30th annual event with you this November.\n\n	Professional development seminars\n	Trade show featuring TOYOTA Tier I Suppliers\n	Strategic networking\n	Matchmaking opportunities\n	2019 "Redefine What's Possible" Pitch Competition [Finalists to be announced in September!]\n\n\n\nDiverse businesses are invited to attend Opportunity Exchange free of charge\, but advance registration is required.\n\n\n\nFor Agenda\, please click here.\n\nFor details of guest Speakers attending\, please click here. \n\nFor FAQs related to the event\, please click here.
X-ALT-DESC;FMTTYPE=text/html:Since launching in 1990\, Opportunity Exchange (OE) has exemplified Toyota&rsquo\;s commitment to the growth and sustainability of diverse businesses across North America. We look forward to celebrating OE&rsquo\;s 30th annual event with you this November.\n<ul>\n	<li>Professional development seminars</li>\n	<li>Trade show featuring TOYOTA Tier I Suppliers</li>\n	<li>Strategic networking</li>\n	<li>Matchmaking opportunities</li>\n	<li>2019 &ldquo\;Redefine What&rsquo\;s Possible&rdquo\; Pitch Competition [Finalists to be announced in September!]</li>\n</ul>\n<br />\nDiverse businesses are invited to attend Opportunity Exchange free of charge\, but advance registration is required.<br />\n<br />\nFor Agenda\, please click <a href="https://web.cvent.com/event/22b8187c-4638-4504-ac4a-669d21746ac0/websitePage:645d57e4-75eb-4769-b2c0-f201a0bfc6ce?rp=00000000-0000-0000-0000-000000000000" target="_blank">here</a>.<br />\nFor details of guest Speakers attending\, please click <a href="https://web.cvent.com/event/22b8187c-4638-4504-ac4a-669d21746ac0/websitePage:4a9f1ae7-fd5e-40ea-a47b-8748de11f650?rp=00000000-0000-0000-0000-000000000000" target="_blank">here</a>.&nbsp\;<br />\nFor FAQs related to the event\, please click <a href="https://web.cvent.com/event/22b8187c-4638-4504-ac4a-669d21746ac0/websitePage:7ceb5f86-610a-46cb-aa53-d05843e23321?rp=00000000-0000-0000-0000-000000000000" target="_blank">here</a>.
LOCATION:Suburban Collection Showplace 46100 Grand River Ave Novi\, MI 48374 View a Map
UID:e.3222.515
SEQUENCE:3
DTSTAMP:20260421T044003Z
URL:https://www.apacc.net/events/details/toyota-30th-opportunity-exchange-515
END:VEVENT

END:VCALENDAR
