BEGIN:VCALENDAR
VERSION:2.0
PRODID:-//ChamberMaster//Event Calendar 2.0//EN
METHOD:PUBLISH
X-PUBLISHED-TTL:P3D
REFRESH-INTERVAL:P3D
CALSCALE:GREGORIAN
BEGIN:VEVENT
DTSTART:20200611T133000Z
DTEND:20200611T150000Z
X-MICROSOFT-CDO-ALLDAYEVENT:FALSE
SUMMARY:The New Normal and What’s Next for Retirement Plans
DESCRIPTION:Join Warner attorneys Justin Stemple\, Jennifer Watkins and Heidi Lyon for a complimentary webinar about recent law changes under the CARES Act and related guidance. Many employers and their workforces have been impacted by the COVID-19 pandemic and have experienced challenges with the legislation changes and guidance affecting retirement plans. We will discuss new developments in electronic disclosure that will be significant as more employers communicate with a remote workforce. We will also discuss common retirement plan questions and issues arising from the new normal\, as employers explore cost-saving strategies to reshape their workforce and plan for the longer-term effects of COVID-19 on their retirement plans. We will answer questions\, which you may submit in advance.
X-ALT-DESC;FMTTYPE=text/html:Join Warner attorneys Justin Stemple\, Jennifer Watkins and Heidi Lyon for a complimentary webinar about recent law changes under the CARES Act and related guidance. Many employers and their workforces have been impacted by the COVID-19 pandemic and have experienced challenges with the legislation changes and guidance affecting retirement plans. We will discuss new developments in electronic disclosure that will be significant as more employers communicate with a remote workforce. We will also discuss common retirement plan questions and issues arising from the new normal\, as employers explore cost-saving strategies to reshape their workforce and plan for the longer-term effects of COVID-19 on their retirement plans. We will answer questions\, which you may submit in advance.&nbsp\;
LOCATION:Webinar by Warner Norcross + Judd
UID:e.3222.1807
SEQUENCE:3
DTSTAMP:20260424T135936Z
URL:https://www.apacc.net/events/details/the-new-normal-and-what-s-next-for-retirement-plans-1807
END:VEVENT

END:VCALENDAR
