BEGIN:VCALENDAR
VERSION:2.0
PRODID:-//ChamberMaster//Event Calendar 2.0//EN
METHOD:PUBLISH
X-PUBLISHED-TTL:P3D
REFRESH-INTERVAL:P3D
CALSCALE:GREGORIAN
BEGIN:VEVENT
DTSTART:20250910T160000Z
DTEND:20250910T170000Z
X-MICROSOFT-CDO-ALLDAYEVENT:FALSE
SUMMARY:The DEI Dilemma: Impacts of DEI Initiatives on Insurance
DESCRIPTION:Join Warner Norcross + Judd for a panel discussion on how Diversity\, Equity and Inclusion (DEI) initiatives are shaping insurance exposure. Our experts will explore the current legal landscape\, key considerations for employers and emerging risks tied to organizational action   or inaction   on DEI in the workplace.\n\n \n\n\nPresenting Partners: \n\n\n	Jason Byrne   Moderator\n	Kris Munsters\n	DeAndre' Harris\n	Carly Zagaroli
X-ALT-DESC;FMTTYPE=text/html:<div>&nbsp\;</div>\n\n<div>Join Warner Norcross + Judd for a panel discussion on how Diversity\, Equity and Inclusion (DEI) initiatives are shaping insurance exposure. Our experts will explore the current legal landscape\, key considerations for employers and emerging risks tied to organizational action &mdash\; or inaction &mdash\; on DEI in the workplace.</div>\n\n<div>&nbsp\;</div>\n\n<div>\n<div><strong>Presenting Partners:&nbsp\;</strong></div>\n\n<ul>\n	<li>Jason Byrne &ndash\; Moderator</li>\n	<li>Kris Munsters</li>\n	<li>DeAndre&#39\; Harris</li>\n	<li>Carly Zagaroli</li>\n</ul>\n</div>\n\n<div>&nbsp\;</div>\n
LOCATION:Webinar
UID:e.3222.3016
SEQUENCE:3
DTSTAMP:20260425T222431Z
URL:https://www.apacc.net/events/details/the-dei-dilemma-impacts-of-dei-initiatives-on-insurance-3016
END:VEVENT

END:VCALENDAR
