BEGIN:VCALENDAR
VERSION:2.0
PRODID:-//ChamberMaster//Event Calendar 2.0//EN
METHOD:PUBLISH
X-PUBLISHED-TTL:P3D
REFRESH-INTERVAL:P3D
CALSCALE:GREGORIAN
BEGIN:VEVENT
DTSTART;VALUE=DATE:20250925
DTEND;VALUE=DATE:20250926
TRANSP:TRANSPARENT
X-MICROSOFT-CDO-ALLDAYEVENT:TRUE
SUMMARY:The ABCs of Foreign Tax Credit for Individuals
DESCRIPTION:The purpose of the foreign tax credit (FTC) is to mitigate the potential effects of double taxation. The individual FTC is reported on Form 1116. \n\n	In this session\, we will discuss in some detail numerous important concepts including but not limited to eligibility\, limitations\, adjustments\, sourcing\, substantiation\, impact of treaties and new F1116 Schedules B & C. \n	Plus\, a live Q & A \n\n Offered with closed captioning. Closed captioning displays the words that describe the audio portion of the program for viewers who are deaf or hard of hearing. Captions are available in English.\n\n \n\nAll participants who qualify will receive a Certificate of Completion.\n\n\n\nTax Professionals - Earn up to 2 CE Credits.\n\nCategory: Federal Tax\n\n\n\nIRS Stakeholder Liaison is an IRS Return Preparer Office Approved CE Provider for Enrolled Agents and Other Tax Return Preparers with valid PTINs and is not NASBA or MCLE accredited. CPAs\, attorneys and others licensed by state boards/organizations should check with their respective boards/organizations to determine if credit applies toward their continuing education requirements.
X-ALT-DESC;FMTTYPE=text/html:<br />\nThe purpose of the foreign tax credit (FTC) is to mitigate the potential effects of double taxation. The individual FTC is reported on Form 1116.&nbsp\;\n<ul>\n	<li>In this session\, we will discuss in some detail numerous important concepts including but not limited to eligibility\, limitations\, adjustments\, sourcing\, substantiation\, impact of treaties and new F1116 Schedules B &amp\; C.&nbsp\;</li>\n	<li>Plus\, a live Q &amp\; A&nbsp\;</li>\n</ul>\n&#8203\;Offered with closed captioning. Closed captioning displays the words that describe the audio portion of the program for viewers who are deaf or hard of hearing. Captions are available in English.<br />\n&nbsp\;<br />\nAll participants who qualify will receive a Certificate of Completion.<br />\n<br />\nTax Professionals - Earn up to 2 CE Credits.<br />\nCategory: Federal Tax<br />\n<br />\nIRS Stakeholder Liaison is an IRS Return Preparer Office Approved CE Provider for Enrolled Agents and Other Tax Return Preparers with valid PTINs and is not NASBA or MCLE accredited. CPAs\, attorneys and others licensed by state boards/organizations should check with their respective boards/organizations to determine if credit applies toward their continuing education requirements.
LOCATION:Webinar
UID:e.3222.3020
SEQUENCE:3
DTSTAMP:20260425T222431Z
URL:https://www.apacc.net/events/details/the-abcs-of-foreign-tax-credit-for-individuals-3020
END:VEVENT

END:VCALENDAR
