BEGIN:VCALENDAR
VERSION:2.0
PRODID:-//ChamberMaster//Event Calendar 2.0//EN
METHOD:PUBLISH
X-PUBLISHED-TTL:P3D
REFRESH-INTERVAL:P3D
CALSCALE:GREGORIAN
BEGIN:VEVENT
DTSTART:20250917T180000Z
DTEND:20250917T200000Z
X-MICROSOFT-CDO-ALLDAYEVENT:FALSE
SUMMARY:Tax Obligations of U.S. Individuals Living and Working Abroad
DESCRIPTION:This webinar will cover the following:\n\n	Specify the U.S. income tax obligations of U.S. citizens and residents abroad.\n	List the requirements for claiming the foreign earned income exclusion.\n	Summarize the U.S. employment tax obligations of U.S. citizens and residents abroad.\n	Plus\, a live Q & A.\n\nOffered with closed captioning.  Closed Captioning displays the words that describe the audio portion of the program for viewers who are deaf or hard of hearing.  Captions are available in English only.\n\n\n\nAll participants who qualify will receive a Certificate of Completion.\n\n\n\nTax Professionals - Earn up to 2 CE Credits.\n\nCategory: Federal Tax\n\n\n\nIRS Stakeholder Liaison is an IRS Return Preparer Office Approved CE Provider for Enrolled Agents and Other Tax Return Preparers with valid PTINs and is not NASBA or MCLE accredited. CPAs\, attorneys and others licensed by state boards/organizations should check with their respective boards/organizations to determine if credit applies toward their continuing education requirements.
X-ALT-DESC;FMTTYPE=text/html:<br />\nThis webinar will cover the following:\n<ul>\n	<li>Specify the U.S. income tax obligations of U.S. citizens and residents abroad.</li>\n	<li>List the requirements for claiming the foreign earned income exclusion.</li>\n	<li>Summarize the U.S. employment tax obligations of U.S. citizens and residents abroad.</li>\n	<li>Plus\, a live Q &amp\; A.</li>\n</ul>\nOffered with closed captioning.&nbsp\; Closed Captioning displays the words that describe the audio portion of the program for viewers who are deaf or hard of hearing.&nbsp\; Captions are available in English only.<br />\n<br />\nAll participants who qualify will receive a Certificate of Completion.<br />\n<br />\nTax Professionals - Earn up to 2 CE Credits.<br />\nCategory: Federal Tax<br />\n<br />\nIRS Stakeholder Liaison is an IRS Return Preparer Office Approved CE Provider for Enrolled Agents and Other Tax Return Preparers with valid PTINs and is not NASBA or MCLE accredited. CPAs\, attorneys and others licensed by state boards/organizations should check with their respective boards/organizations to determine if credit applies toward their continuing education requirements.
LOCATION:Webinar
UID:e.3222.3018
SEQUENCE:3
DTSTAMP:20260425T222431Z
URL:https://www.apacc.net/events/details/tax-obligations-of-u-s-individuals-living-and-working-abroad-3018
END:VEVENT

END:VCALENDAR
