BEGIN:VCALENDAR
VERSION:2.0
PRODID:-//ChamberMaster//Event Calendar 2.0//EN
METHOD:PUBLISH
X-PUBLISHED-TTL:P3D
REFRESH-INTERVAL:P3D
CALSCALE:GREGORIAN
BEGIN:VEVENT
DTSTART:20210417T190000Z
DTEND:20210417T203000Z
X-MICROSOFT-CDO-ALLDAYEVENT:FALSE
SUMMARY:Stop Asian Hate: Vigil and Rally\, Grand Rapids
DESCRIPTION:Please join Korean Connection and West Michigan Asian American Association Saturday\, April 17\,  3:00-4:30 pm\, Rosa Park Circle\, for a rally to support the Asian community. All are welcome.\n\nGuest speakers will include:\n\n	State Asian leaders\n	Mayor Bliss\n	Mayor Kepley\n	State Senator Stephanie Chang\n	Winnie Brinks\n	Tommy Bran\n	and other local leaders. \n\n\n\nIt will be a meaningful program. \n\n\n\n#SolidarityAgainstRacism \n\n\n\nTo view flyer\, please click here.
X-ALT-DESC;FMTTYPE=text/html:<br />\n<br />\nPlease join Korean Connection and West Michigan Asian American Association Saturday\, April 17\,&nbsp\; 3:00-4:30 pm\, Rosa Park Circle\, for a rally to support the Asian community. All are welcome.<br />\nGuest speakers will include:\n<ul>\n	<li>State Asian leaders</li>\n	<li>Mayor Bliss</li>\n	<li>Mayor Kepley</li>\n	<li>State Senator Stephanie Chang</li>\n	<li>Winnie Brinks</li>\n	<li>Tommy Bran</li>\n	<li>and other local leaders.&nbsp\;</li>\n</ul>\n<br />\nIt will be a meaningful program.&nbsp\;<br />\n<br />\n#SolidarityAgainstRacism&nbsp\;<br />\n<br />\nTo view flyer\, please click <a href="https://chambermaster.blob.core.windows.net/userfiles/UserFiles/chambers/3222/File/unnamed.jpg" target="_blank">here</a>.
LOCATION:(Rosa Parks Circle\, Grand Rapids) 135 Monroe Center St. NW\, Grand Rapids\, MI 49503
UID:e.3222.2097
SEQUENCE:3
DTSTAMP:20260424T094108Z
URL:https://www.apacc.net/events/details/stop-asian-hate-vigil-and-rally-grand-rapids-2097
END:VEVENT

END:VCALENDAR
