BEGIN:VCALENDAR
VERSION:2.0
PRODID:-//ChamberMaster//Event Calendar 2.0//EN
METHOD:PUBLISH
X-PUBLISHED-TTL:P3D
REFRESH-INTERVAL:P3D
CALSCALE:GREGORIAN
BEGIN:VEVENT
DTSTART:20200319T133000Z
DTEND:20200319T160000Z
X-MICROSOFT-CDO-ALLDAYEVENT:FALSE
SUMMARY:Starting a Business - Roseville
DESCRIPTION:Topic: Starting a Business\n\n\n\nWHO SHOULD ATTEND?\n\nAttend this seminar if you want to turn your idea into a successful business. \n\n\n\nTOPICS INCLUDE:\n\n	Assessing your readiness for entrepreneurship\n	Evaluating market potential for your products or services\n	Sources of financing\n	Legal structure options\n	Taxes\, licensing and insurance\n	Marketing and sales\n	Determining start-up costs and operating expenses \n	Introduction to writing a business plan\n\n\n\nSpeaker(s): Michigan SBDC Staff\n\nCo-Sponsor(s):  Suburban Library Collaborative\n\n\n\nPark on the south side of the building off of the small side street\, Kelly Road.
X-ALT-DESC;FMTTYPE=text/html:Topic: Starting a Business<br />\n<br />\nWHO SHOULD ATTEND?<br />\nAttend this seminar if you want to turn your idea into a successful business.&nbsp\;<br />\n<br />\nTOPICS INCLUDE:\n<ul>\n	<li>Assessing your readiness for entrepreneurship</li>\n	<li>Evaluating market potential for your products or services</li>\n	<li>Sources of financing</li>\n	<li>Legal structure options</li>\n	<li>Taxes\, licensing and insurance</li>\n	<li>Marketing and sales</li>\n	<li>Determining start-up costs and operating expenses&nbsp\;</li>\n	<li>Introduction to writing a business plan</li>\n</ul>\n<br />\nSpeaker(s): Michigan SBDC Staff<br />\nCo-Sponsor(s):&nbsp\; Suburban Library Collaborative<br />\n<br />\nPark on the south side of the building off of the small side street\, Kelly Road.
LOCATION:City of Roseville Public Library (City Hall Complex) Erin Auditorium 29777 Gratiot Avenue Roseville\, MI 48066 View a Map
UID:e.3222.1592
SEQUENCE:3
DTSTAMP:20260422T082200Z
URL:https://www.apacc.net/events/details/starting-a-business-roseville-1592
END:VEVENT

END:VCALENDAR
