BEGIN:VCALENDAR
VERSION:2.0
PRODID:-//ChamberMaster//Event Calendar 2.0//EN
METHOD:PUBLISH
X-PUBLISHED-TTL:P3D
REFRESH-INTERVAL:P3D
CALSCALE:GREGORIAN
BEGIN:VEVENT
DTSTART:20210430T140000Z
DTEND:20210430T150000Z
X-MICROSOFT-CDO-ALLDAYEVENT:FALSE
SUMMARY:Special Dialogue with SBA - Restaurant Revitalization Fund
DESCRIPTION:Presented by Asian American Executive Network\n\n\n\nAbout this Event\n\n\n\nIn advance of the deployment of the Restaurant Revitalization Fund\, Robert Steiner\, SBA Illinois District Director will on hand to:\n\n	provide a high level summary of the program\,\n	prepare you and restaurants owners to submit your application\,\n	and answer questions on your specific situation.\n\n\n\nWe encourage you to review the information that is available at https://www.sba.gov/funding-programs/loans/covid-19-relief-options/restaurant-revitalization-fund\n\n\n\nFor a summary with multiple languages\, see: https://www.sba.gov/document/support-restaurant-revitalization-fund-overview?utm_medium=email&utm_source=govdelivery#french\n\n\n\nSpeaker: \n\nRobert "Bo" Steiner\n\nIllinois District Director\n\nUS Small Business Administration
X-ALT-DESC;FMTTYPE=text/html:<br />\n<br />\n<em>Presented by Asian American Executive Network</em><br />\n<br />\n<strong>About this Event</strong><br />\n<br />\nIn advance of the deployment of the Restaurant Revitalization Fund\, Robert Steiner\, SBA Illinois District Director will on hand to:\n<ul>\n	<li>provide a high level summary of the program\,</li>\n	<li>prepare you and restaurants owners to submit your application\,</li>\n	<li>and answer questions on your specific situation.</li>\n</ul>\n<br />\nWe encourage you to review the information that is available at <a href="https://www.sba.gov/funding-programs/loans/covid-19-relief-options/restaurant-revitalization-fund" target="_blank">https://www.sba.gov/funding-programs/loans/covid-19-relief-options/restaurant-revitalization-fund</a><br />\n<br />\nFor a summary with multiple languages\, see: <a href="https://www.sba.gov/document/support-restaurant-revitalization-fund-overview?utm_medium=email&amp\;utm_source=govdelivery#french" target="_blank">https://www.sba.gov/document/support-restaurant-revitalization-fund-overview?utm_medium=email&amp\;utm_source=govdelivery#french</a><br />\n<br />\n<strong>Speaker:</strong>&nbsp\;<br />\n<em><strong>Robert &quot\;Bo&quot\; Steiner</strong></em><br />\nIllinois District Director<br />\nUS Small Business Administration
LOCATION:Virtual
UID:e.3222.2119
SEQUENCE:3
DTSTAMP:20260422T231343Z
URL:https://www.apacc.net/events/details/special-dialogue-with-sba-restaurant-revitalization-fund-2119
END:VEVENT

END:VCALENDAR
