BEGIN:VCALENDAR
VERSION:2.0
PRODID:-//ChamberMaster//Event Calendar 2.0//EN
METHOD:PUBLISH
X-PUBLISHED-TTL:P3D
REFRESH-INTERVAL:P3D
CALSCALE:GREGORIAN
BEGIN:VEVENT
DTSTART:20250531T213000Z
DTEND:20250601T010000Z
X-MICROSOFT-CDO-ALLDAYEVENT:FALSE
SUMMARY:Soaring Eagle Casino & Resort - Sumo\, Sushi\, & Sake
DESCRIPTION:Secure your tickets now and be part of an unforgettable fusion of culture\, cuisine\, and combat!\n\n\n\nBook your room now at a discounted rate on the link here for May 31st! Discount already applied at booking. \n\n\n\nHOWEVER   if that doesn't work the steps are as follows:\n\nGo to www.soaringeaglecasino.com\n\nIn the top row at the far right\, click on "Book Now"\n\nSelect the number of guests staying and the date\n\nChange the "promo code" to say "group code" then type the code SSS2025\n\nClick apply\n\nClick search\n\n \n\nVIP Level 1   Ultimate Experience\n\nTickets Include:\n\n- Exclusive Bottle Service   Enjoy a premium experience with a personal bottle of ZINI Lychee Vodka per table.\n\n- Early Entry at 5:30 PM   Get in before the crowd to enjoy sushi and sake.\n\n- Premium Seating   Get the best view of the action with reserved premium seating.\n\n- Meet & Greet   A rare opportunity to meet the featured sumo wrestlers and special guests.\n\n- Photo Op   Capture unforgettable moments with exclusive photo opportunities.\n\n- Gift Item - Each VIP Guest will receive a ZINI LYCHEE VODKA bottle.\n\n- 9:30 PM VIP Access to After Party at Ascend.\n\n \n\nVIP Level 2   Premium Access\n\nTickets Include:\n\n- Early Entry at 5:30 PM   Get in before the crowd to enjoy sushi and sake.\n\n- Special Seating - Near the action.\n\n- Meet & Greet   A rare opportunity to meet the featured sumo wrestlers and special guests.\n\n- Photo Op   Capture unforgettable moments with exclusive photo opportunities.\n\n- Gift Item - Each VIP Guest will receive a ZINI LYCHEE VODKA bottle.\n\n- 9:30 PM VIP Access to After Party at Ascend.\n\n \n\nShow + Food Experience\n\nTickets Include:\n\n- Entry at 6:00 PM.\n\n- Access to the Full Show   Witness the thrilling sumo exhibition up close.\n\n- Curated Culinary Experience   Savor an exclusive tasting of sushi\, sake\, and handcrafted Asian-inspired cocktails that complement the evening.\n\n \n\nShow-Only Admission\n\nTickets Include:\n\n- Entry at 7:00 PM.\n\n- Entertainment-Only Experience   Perfect for those looking to immerse themselves in the spectacle without the dining experience.\n\n\n\nClick here to view flyer.
X-ALT-DESC;FMTTYPE=text/html:<br />\nSecure your tickets now and be part of an unforgettable fusion of culture\, cuisine\, and combat!<br />\n<br />\n<strong>Book your room now</strong> at a <strong>discounted rate </strong>on the<strong> <a href="https://be.synxis.com/?_gl=1*myprci*_ga*NjI1MzAyNDk1LjE2OTIyODA5Njc.*_ga_3KNCVXGDT6*MTc0NDgxNTc2Ny4zODguMC4xNzQ0ODE1NzY3LjYwLjAuMA..&amp\;adult=2&amp\;arrive=2025-05-31&amp\;chain=9018&amp\;child=0&amp\;currency=USD&amp\;depart=2025-06-01&amp\;group=SSS2025&amp\;hotel=23262&amp\;level=hotel&amp\;locale=en-US&amp\;productcurrency=USD&amp\;rooms=1" target="_blank">link here</a></strong> for May 31st! Discount already applied at booking.&nbsp\;<br />\n<br />\n<strong>HOWEVER</strong> &ndash\; if that doesn&rsquo\;t work the steps are as follows:<br />\nGo to <a href="http://www.soaringeaglecasino.com" target="_blank">www.soaringeaglecasino.com</a><br />\nIn the top row at the far right\, click on &ldquo\;Book Now&rdquo\;<br />\nSelect the number of guests staying and the date<br />\nChange the &ldquo\;promo code&rdquo\; to say &ldquo\;group code&rdquo\; then type the code SSS2025<br />\nClick apply<br />\nClick search<br />\n&nbsp\;<br />\n<strong>VIP Level 1 &ndash\; Ultimate Experience</strong><br />\nTickets Include:<br />\n- Exclusive Bottle Service &ndash\; Enjoy a premium experience with a personal bottle of ZINI Lychee Vodka per table.<br />\n- Early Entry at 5:30 PM &ndash\; Get in before the crowd to enjoy sushi and sake.<br />\n- Premium Seating &ndash\; Get the best view of the action with reserved premium seating.<br />\n- Meet &amp\; Greet &ndash\; A rare opportunity to meet the featured sumo wrestlers and special guests.<br />\n- Photo Op &ndash\; Capture unforgettable moments with exclusive photo opportunities.<br />\n- Gift Item - Each VIP Guest will receive a ZINI LYCHEE VODKA bottle.<br />\n- 9:30 PM VIP Access to After Party at Ascend.<br />\n&nbsp\;<br />\n<strong>VIP Level 2 &ndash\; Premium Access</strong><br />\nTickets Include:<br />\n- Early Entry at 5:30 PM &ndash\; Get in before the crowd to enjoy sushi and sake.<br />\n- Special Seating - Near the action.<br />\n- Meet &amp\; Greet &ndash\; A rare opportunity to meet the featured sumo wrestlers and special guests.<br />\n- Photo Op &ndash\; Capture unforgettable moments with exclusive photo opportunities.<br />\n- Gift Item - Each VIP Guest will receive a ZINI LYCHEE VODKA bottle.<br />\n- 9:30 PM VIP Access to After Party at Ascend.<br />\n&nbsp\;<br />\n<strong>Show + Food Experience</strong><br />\nTickets Include:<br />\n- Entry at 6:00 PM.<br />\n- Access to the Full Show &ndash\; Witness the thrilling sumo exhibition up close.<br />\n- Curated Culinary Experience &ndash\; Savor an exclusive tasting of sushi\, sake\, and handcrafted Asian-inspired cocktails that complement the evening.<br />\n&nbsp\;<br />\n<strong>Show-Only Admission</strong><br />\nTickets Include:<br />\n- Entry at 7:00 PM.<br />\n- Entertainment-Only Experience &ndash\; Perfect for those looking to immerse themselves in the spectacle without the dining experience.<br />\n<br />\n<a href="https://chambermaster.blob.core.windows.net/userfiles/UserFiles/chambers/3222/File/SumoFlyer11x17.pdf" target="_blank">Click here to view flyer</a>.
LOCATION:
UID:e.3222.2975
SEQUENCE:3
DTSTAMP:20260425T161632Z
URL:https://www.apacc.net/events/details/soaring-eagle-casino-resort-sumo-sushi-sake-2975
END:VEVENT

END:VCALENDAR
