BEGIN:VCALENDAR
VERSION:2.0
PRODID:-//ChamberMaster//Event Calendar 2.0//EN
METHOD:PUBLISH
X-PUBLISHED-TTL:P3D
REFRESH-INTERVAL:P3D
CALSCALE:GREGORIAN
BEGIN:VEVENT
DTSTART:20180925T150000Z
DTEND:20180925T160000Z
X-MICROSOFT-CDO-ALLDAYEVENT:FALSE
SUMMARY:Small Business\, Big Threat Protect Your Non-Tech Business From Data Breach Disasters - Webinar
DESCRIPTION:Topic: Cyber Security\n\nDo you have a technology plan to prepare for the worst? Join us as we discuss how to be prepared for a data breach and what to do after you experience one.\n\n\n\nWe'll walk you through a quick-paced webinar\, ask a few poll questions of the audience\, and give you time for question and answer with the Michigan SBDC's Cyber Security Awareness Program Specialist\, Scott Taber.
X-ALT-DESC;FMTTYPE=text/html:Topic: Cyber Security<br />\nDo you have a technology plan to prepare for the worst? Join us as we discuss how to be prepared for a data breach and what to do after you experience one.<br />\n<br />\nWe&rsquo\;ll walk you through a quick-paced webinar\, ask a few poll questions of the audience\, and give you time for question and answer with the Michigan SBDC&rsquo\;s Cyber Security Awareness Program Specialist\, Scott Taber.
LOCATION:Online
UID:e.3222.151
SEQUENCE:3
DTSTAMP:20260421T174735Z
URL:https://www.apacc.net/events/details/small-business-big-threat-protect-your-non-tech-business-from-data-breach-disasters-webinar-151
END:VEVENT

END:VCALENDAR
