BEGIN:VCALENDAR
VERSION:2.0
PRODID:-//ChamberMaster//Event Calendar 2.0//EN
METHOD:PUBLISH
X-PUBLISHED-TTL:P3D
REFRESH-INTERVAL:P3D
CALSCALE:GREGORIAN
BEGIN:VEVENT
DTSTART:20200423T150000Z
DTEND:20200423T160000Z
X-MICROSOFT-CDO-ALLDAYEVENT:FALSE
SUMMARY:Schoolcraft College - Back-to-work with COVID-19: A Leadership Process and Checklist
DESCRIPTION:Schoolcraft College Workforce Training Solutions is providing this no cost seminar as a service to our business community. \n\n\n\nJoin us for a "Back-to-Work" with COVID-19 Webinar provided by the Luminous Group. This session takes a look at the multiple activities that need to occur to get employees safely working again.\n\n\n\nParticipants will join the facilitator to explore:\n\n	How to prepare leaders\, the workplace\, and employees to safely return to the workplace\n	Activities leadership should do to leverage their efforts to achieve the 'new normal' \n	A process and key activities that a back-to-work steering committee should consider\n	Selecting and customizing available restart or return-to-work checklists\, to best suit each organization's needs while bringing people back during the COVID-19 pandemic\n	Types of messaging for employees before\, during\, and after return to work\n\n\n\nParticipants will receive a checklist to work with to ease the transition of back-to-work.
X-ALT-DESC;FMTTYPE=text/html:<strong>Schoolcraft College Workforce Training Solutions</strong> is providing this no cost seminar as a service to our business community.&nbsp\;<br />\n<br />\nJoin us for a &ldquo\;Back-to-Work&quot\; with COVID-19 Webinar provided by the Luminous Group. This session takes a look at the multiple activities that need to occur to get employees safely working again.<br />\n<br />\nParticipants will join the facilitator to explore:\n<ul>\n	<li>How to prepare leaders\, the workplace\, and employees to safely return to the workplace</li>\n	<li>Activities leadership should do to leverage their efforts to achieve the &lsquo\;new normal&rsquo\;&nbsp\;</li>\n	<li>A process and key activities that a back-to-work steering committee should consider</li>\n	<li>Selecting and customizing available restart or return-to-work checklists\, to best suit each organization&rsquo\;s needs while bringing people back during the COVID-19 pandemic</li>\n	<li>Types of messaging for employees before\, during\, and after return to work</li>\n</ul>\n<br />\nParticipants will receive a checklist to work with to ease the transition of back-to-work.
LOCATION:Webinar
UID:e.3222.1696
SEQUENCE:3
DTSTAMP:20260424T082440Z
URL:https://www.apacc.net/events/details/schoolcraft-college-back-to-work-with-covid-19-a-leadership-process-and-checklist-1696
END:VEVENT

END:VCALENDAR
