BEGIN:VCALENDAR
VERSION:2.0
PRODID:-//ChamberMaster//Event Calendar 2.0//EN
METHOD:PUBLISH
X-PUBLISHED-TTL:P3D
REFRESH-INTERVAL:P3D
CALSCALE:GREGORIAN
BEGIN:VEVENT
DTSTART:20200424T170000Z
DTEND:20200424T174500Z
X-MICROSOFT-CDO-ALLDAYEVENT:FALSE
SUMMARY:Returning to Work After COVID-19
DESCRIPTION:From the Capitol: COVID-19 Update\n\n\n\nJoin Warner attorneys Troy Cumings and Jim Cavanagh in a COVID 19 update from Michigan's capitol. In this webinar\, we will address:\n\na) how Lansing has responded to the COVID 19 crisis\;\n\nb) the current landscape in Lansing\;\n\nc) how federal guidelines on reopening will impact Michigan\;\n\nd) if more executive orders are on the way\; and\n\ne) when and how the state could transition out of the Stay Home\, Stay Safe Executive Order.\n\n \nTroy M. Cumings\n\nExecutive Partner\n\n517.679.7411 (Lansing)\n\n616.752.2731 (Grand Rapids)\n\nEmail\n\n \n\nJames G. Cavanagh\n\nSenior Counsel\n\n517.679.7410\n\nEmail
X-ALT-DESC;FMTTYPE=text/html:<br />\n<span style="font-size:14px\;"><strong>From the Capitol: COVID-19 Update</strong></span><br />\n<br />\nJoin Warner attorneys <a href="mailto:tcumings@wnj.com" target="_blank">Troy Cumings</a> and <a href="mailto:jcavanagh@wnj.com" target="_blank">Jim Cavanagh</a> in a COVID 19 update from Michigan&rsquo\;s capitol. In this webinar\, we will address:<br />\na) how Lansing has responded to the COVID 19 crisis\;<br />\nb) the current landscape in Lansing\;<br />\nc) how federal guidelines on reopening will impact Michigan\;<br />\nd) if more executive orders are on the way\; and<br />\ne) when and how the state could transition out of the Stay Home\, Stay Safe Executive Order.<br />\n&nbsp\;\n<div>Troy M. Cumings</div>\n\n<div>Executive Partner</div>\n\n<div>517.679.7411 (Lansing)</div>\n\n<div>616.752.2731 (Grand Rapids)<br />\n<a href="mailto:tcumings@wnj.com" target="_blank">Email</a></div>\n\n<div>&nbsp\;</div>\n\n<div>James G. Cavanagh</div>\n\n<div>Senior Counsel</div>\n\n<div>517.679.7410<br />\n<a href="http://jcavanagh@wnj.com" target="_blank">Email</a></div>\n\n<div>&nbsp\;</div>\n
LOCATION:Webinar by Warner\, Norcross + Judd LLP
UID:e.3222.1681
SEQUENCE:3
DTSTAMP:20260424T093956Z
URL:https://www.apacc.net/events/details/returning-to-work-after-covid-19-1681
END:VEVENT

END:VCALENDAR
