BEGIN:VCALENDAR
VERSION:2.0
PRODID:-//ChamberMaster//Event Calendar 2.0//EN
METHOD:PUBLISH
X-PUBLISHED-TTL:P3D
REFRESH-INTERVAL:P3D
CALSCALE:GREGORIAN
BEGIN:VEVENT
DTSTART:20200722T160000Z
DTEND:20200722T170000Z
X-MICROSOFT-CDO-ALLDAYEVENT:FALSE
SUMMARY:Restructuring Debt for Small Businesses
DESCRIPTION:Join Warner Norcross + Judd partners Susan Cook and Rozanne Giunta for a webinar for accountants and financial advisors focused on the favorable provisions of the new small bankruptcy law. This law will simplify the reorganization process for small businesses and family farm clients and allow them to restructure their debt on the heels of the COVID-19 crisis.
X-ALT-DESC;FMTTYPE=text/html:<span style="white-space:pre-wrap\;"><span style="background-color:#ffffff\;"><span style="font-size:14px\;"><span style="font-family:lato-regular\,helveticaneuew01-55roma\,helvetica neue\,helvetica\,arial\,sans-serif\;"><span style="color:#333333\;">Join Warner Norcross + Judd partners Susan Cook and Rozanne Giunta for a webinar for accountants and financial advisors focused on the favorable provisions of the new small bankruptcy law. This law will simplify the reorganization process for small businesses and family farm clients and allow them to restructure their debt on the heels of the COVID-19 crisis. </span></span></span></span></span>
LOCATION:GoToWebinar
UID:e.3222.1877
SEQUENCE:3
DTSTAMP:20260424T021844Z
URL:https://www.apacc.net/events/details/restructuring-debt-for-small-businesses-1877
END:VEVENT

END:VCALENDAR
