BEGIN:VCALENDAR
VERSION:2.0
PRODID:-//ChamberMaster//Event Calendar 2.0//EN
METHOD:PUBLISH
X-PUBLISHED-TTL:P3D
REFRESH-INTERVAL:P3D
CALSCALE:GREGORIAN
BEGIN:VEVENT
DTSTART:20200504T193000Z
DTEND:20200504T203000Z
X-MICROSOFT-CDO-ALLDAYEVENT:FALSE
SUMMARY:Resources & Resilience: Next Generation Business Owners & Entrepreneurs during COVID-19
DESCRIPTION:NextGen Chamber of Commerce & Facebook have partnered to inform America's entrepreneurs and small business owners on public and private resources available to them during this time\, as well as hearing from their colleagues about the impacts of COVID-19 and adaptation and resilience efforts in light of this global pandemic. Additionally\, the town hall forum will open to a discussion about what reopening the economy might look like and how entrepreneurs can build their business in a way that is more financially resilient in these precarious times.\n\n\n\nFeatured Speakers:\n\nAram Nadjarian - Chair\, NextGen Chamber of Commerce\n\nGabrielle Sutton - Policy Programs\, Facebook\n\nJames Cutchin - Reporter\, Los Angeles Business Journal\n\nKatie Vlietstra Wonnenberg - Vice President for Government Affairs\, National Association for the Self-Employed & Principal\, Public Private Strategies\n\nC. LeRoy Cavazos-Reyna - Vice President of Government and International Affairs\, United States Hispanic Chamber of Commerce\n\nAndrew Chau - Founder\, BobaGuys & National Asian Chamber of Commerce & Entrepreneurship Next Gen \n\n\n\nInterested in a Small Business Grant from Facebook? To learn more and see if you qualify\, please click here.
X-ALT-DESC;FMTTYPE=text/html:<strong>NextGen Chamber of Commerce &amp\; Facebook</strong> have partnered to inform America&rsquo\;s entrepreneurs and small business owners on public and private resources available to them during this time\, as well as hearing from their colleagues about the impacts of COVID-19 and adaptation and resilience efforts in light of this global pandemic. Additionally\, the town hall forum will open to a discussion about what reopening the economy might look like and how entrepreneurs can build their business in a way that is more financially resilient in these precarious times.<br />\n<br />\n<strong>Featured Speakers:</strong><br />\nAram Nadjarian - Chair\, NextGen Chamber of Commerce<br />\nGabrielle Sutton - Policy Programs\, Facebook<br />\nJames Cutchin - Reporter\, Los Angeles Business Journal<br />\nKatie Vlietstra Wonnenberg - Vice President for Government Affairs\, National Association for the Self-Employed &amp\; Principal\, Public Private Strategies<br />\nC. LeRoy Cavazos-Reyna - Vice President of Government and International Affairs\, United States Hispanic Chamber of Commerce<br />\nAndrew Chau - Founder\, BobaGuys &amp\; National Asian Chamber of Commerce &amp\; Entrepreneurship Next Gen&nbsp\;<br />\n<br />\nInterested in a Small Business Grant from Facebook? To learn more and see if you qualify\, <a href="https://www.facebook.com/business/boost/grants?ref=alias" target="_blank">please click here</a>.
LOCATION:Webinar
UID:e.3222.1710
SEQUENCE:3
DTSTAMP:20260424T082621Z
URL:https://www.apacc.net/events/details/resources-resilience-next-generation-business-owners-entrepreneurs-during-covid-19-1710
END:VEVENT

END:VCALENDAR
