BEGIN:VCALENDAR
VERSION:2.0
PRODID:-//ChamberMaster//Event Calendar 2.0//EN
METHOD:PUBLISH
X-PUBLISHED-TTL:P3D
REFRESH-INTERVAL:P3D
CALSCALE:GREGORIAN
BEGIN:VEVENT
DTSTART:20210106T203000Z
DTEND:20210106T210000Z
X-MICROSOFT-CDO-ALLDAYEVENT:FALSE
SUMMARY:REGISTRATION OPEN: MEDC Toolbox Training Webinar Series (Starting December 8\, 2020 - March 17\, 2021)
DESCRIPTION:US & Foreign Direct Investment Overview \n\nThe MEDC has hosted full day Toolbox trainings regionally on a bi-annual basis for our local partners since 2016. With the COVID-19 pandemic we were unable to follow through with the trainings we had scheduled in person and are now offering a free virtual training platform statewide.\n\n\n\nThe following topics are available and registration is now open.  These training webinars will provide an overview of the topic and time for Q&A.  All webinars will be recorded and made available for future viewing. \n\n\n\nPlease see the agenda for dates and times of the training sessions.\n\n\n	RFP/RFI Process and Zoom Prospector \n	Site Consultant Program \n	US & Foreign Direct Investment Overview \n	Industry 4.0 \n	Community Development Overview and post COVID-19 Priorities \n	Michigan Build Ready Program \n	Entrepreneurship & Innovation \n	Capital Access Program \n	MEDC COVID-19 Response\n	Pure Michigan Business Connect\n	International Trade\n	Office of Future Mobility and Electrification (OFME)\n	Business Development Incentive Tools including Project Timeline and Portal Process \n	Retention & Growth Overview \n	Michigan Defense Center
X-ALT-DESC;FMTTYPE=text/html:<ul style="padding: 0px 40px\; color: rgb(51\, 51\, 51)\; font-family: sans-serif\, Arial\, Verdana\, &quot\;Trebuchet MS&quot\;\; font-size: 13px\;">\n	<li><strong>US &amp\; Foreign Direct Investment Overview&nbsp\;</strong></li>\n</ul>\nThe MEDC has hosted full day Toolbox trainings regionally on a bi-annual basis for our local partners since 2016. With the COVID-19 pandemic we were unable to follow through with the trainings we had scheduled in person and are now offering a free virtual training platform statewide.<br />\n<br />\nThe following topics are available and registration is now open.&nbsp\; These training webinars will provide an overview of the topic and time for Q&amp\;A.&nbsp\; All webinars will be recorded and made available for future viewing.&nbsp\;<br />\n<br />\nPlease see the <a href="https://medc.cventevents.com/event/00c9a77d-6847-4530-9280-d26949001254/websitePage:645d57e4-75eb-4769-b2c0-f201a0bfc6ce" target="_blank">agenda</a> for dates and times of the training sessions.\n\n<ul>\n	<li>RFP/RFI Process and Zoom Prospector&nbsp\;</li>\n	<li>Site Consultant Program&nbsp\;</li>\n	<li>US &amp\; Foreign Direct Investment Overview&nbsp\;</li>\n	<li>Industry 4.0&nbsp\;</li>\n	<li>Community Development Overview and post COVID-19 Priorities&nbsp\;</li>\n	<li>Michigan Build Ready Program&nbsp\;</li>\n	<li>Entrepreneurship &amp\; Innovation&nbsp\;</li>\n	<li>Capital Access Program&nbsp\;</li>\n	<li>MEDC COVID-19 Response</li>\n	<li>Pure Michigan Business Connect</li>\n	<li>International Trade</li>\n	<li>Office of Future Mobility and Electrification (OFME)</li>\n	<li>Business Development Incentive Tools including Project Timeline and Portal Process&nbsp\;</li>\n	<li>Retention &amp\; Growth Overview&nbsp\;</li>\n	<li>Michigan Defense Center</li>\n</ul>\n
LOCATION:Webinar Series by MEDC
UID:e.3222.2026
SEQUENCE:3
DTSTAMP:20260421T100428Z
URL:https://www.apacc.net/events/details/registration-open-medc-toolbox-training-webinar-series-starting-december-8-2020-march-17-2021-2026
END:VEVENT

END:VCALENDAR
