BEGIN:VCALENDAR
VERSION:2.0
PRODID:-//ChamberMaster//Event Calendar 2.0//EN
METHOD:PUBLISH
X-PUBLISHED-TTL:P3D
REFRESH-INTERVAL:P3D
CALSCALE:GREGORIAN
BEGIN:VEVENT
DTSTART:20250917T130000Z
DTEND:20250918T200000Z
X-MICROSOFT-CDO-ALLDAYEVENT:FALSE
SUMMARY:Recommended Practices for Safety and Health Programs
DESCRIPTION:Two-day Course Description:\n\n\n\nThese recommended practices provide responsible employers\, workers\, and worker representatives with a sound\, flexible framework for addressing safety and health issues in diverse workplaces. They may be used in any workplace but will be particularly helpful in small and medium-sized workplaces. They can be applied equally well in traditional\, fixed manufacturing workplaces and in the service sector\, healthcare\, retail\, and even mobile or office-based work environments.\n\n\n\nThey also include information specifically aimed at temporary worker and multiemployer work situations. Separate recommended practices are available for the construction industry.\n\n\n\nThe attendee will learn the recommended practices for a Safety and Health Program and how they place emphasis on involving workers and include a more robust program evaluation element to help drive continuous improvement. The recommended practices also stress the need for communication and coordination on worksites involving more than one employer.\n\n	 Two-Day Course\n	MTI Level One Required General Industry Course\n\nAgenda:\n\n\n	The benefits of implementing these practices.\n	10 easy things to get your program started.\n	Core elements of the safety and health programs.\n	How to accomplish each core element.\n\nAll meetings are accessible and barrier free. Please contact the cosponsor or the CET Division\, at least 30 days in advance\, to request necessary accommodations.\n\n\n\nThe meeting site and parking are accessible. Individuals attending the meeting are requested to refrain from using heavily scented personal care products\, in order to enhance accessibility for everyone. People with disabilities requiring additional services (such as materials in alternative format) in order to participate in the meeting should call 517-284-7720 at least 30 days before the program. The Department of Labor and Economic Opportunity (LEO) is an equal opportunity employer/program.
X-ALT-DESC;FMTTYPE=text/html:<br />\n<strong>Two-day Course Description:</strong><br />\n<br />\nThese recommended practices provide responsible employers\, workers\, and worker representatives with a sound\, flexible framework for addressing safety and health issues in diverse workplaces. They may be used in any workplace but will be particularly helpful in small and medium-sized workplaces. They can be applied equally well in traditional\, fixed manufacturing workplaces and in the service sector\, healthcare\, retail\, and even mobile or office-based work environments.<br />\n<br />\nThey also include information specifically aimed at temporary worker and multiemployer work situations. Separate recommended practices are available for the construction industry.<br />\n<br />\nThe attendee will learn the recommended practices for a Safety and Health Program and how they place emphasis on involving workers and include a more robust program evaluation element to help drive continuous improvement. The recommended practices also stress the need for communication and coordination on worksites involving more than one employer.\n<ul>\n	<li>&#8203\;Two-Day Course</li>\n	<li>MTI Level One Required General Industry Course</li>\n</ul>\n<strong>Agenda:</strong>\n\n<ul>\n	<li>The benefits of implementing these practices.</li>\n	<li>10 easy things to get your program started.</li>\n	<li>Core elements of the safety and health programs.</li>\n	<li>How to accomplish each core element.</li>\n</ul>\nAll meetings are accessible and barrier free. Please contact the cosponsor or the CET Division\, at least 30 days in advance\, to request necessary accommodations.<br />\n<br />\nThe meeting site and parking are accessible. Individuals attending the meeting are requested to refrain from using heavily scented personal care products\, in order to enhance accessibility for everyone. People with disabilities requiring additional services (such as materials in alternative format) in order to participate in the meeting should call 517-284-7720 at least 30 days before the program. The Department of Labor and Economic Opportunity (LEO) is an equal opportunity employer/program.
LOCATION:The Employers' Association
UID:e.3222.3015
SEQUENCE:3
DTSTAMP:20260425T222309Z
URL:https://www.apacc.net/events/details/recommended-practices-for-safety-and-health-programs-3015
END:VEVENT

END:VCALENDAR
